BEGIN:VCALENDAR
VERSION:2.0
PRODID:-//The Roundabout club - ECPv6.15.20//NONSGML v1.0//EN
CALSCALE:GREGORIAN
METHOD:PUBLISH
X-ORIGINAL-URL:https://roundaboutclubsandy.co.uk
X-WR-CALDESC:Events for The Roundabout club
REFRESH-INTERVAL;VALUE=DURATION:PT1H
X-Robots-Tag:noindex
X-PUBLISHED-TTL:PT1H
BEGIN:VTIMEZONE
TZID:Europe/London
BEGIN:DAYLIGHT
TZOFFSETFROM:+0000
TZOFFSETTO:+0100
TZNAME:BST
DTSTART:20220327T010000
END:DAYLIGHT
BEGIN:STANDARD
TZOFFSETFROM:+0100
TZOFFSETTO:+0000
TZNAME:GMT
DTSTART:20221030T010000
END:STANDARD
BEGIN:DAYLIGHT
TZOFFSETFROM:+0000
TZOFFSETTO:+0100
TZNAME:BST
DTSTART:20230326T010000
END:DAYLIGHT
BEGIN:STANDARD
TZOFFSETFROM:+0100
TZOFFSETTO:+0000
TZNAME:GMT
DTSTART:20231029T010000
END:STANDARD
BEGIN:DAYLIGHT
TZOFFSETFROM:+0000
TZOFFSETTO:+0100
TZNAME:BST
DTSTART:20240331T010000
END:DAYLIGHT
BEGIN:STANDARD
TZOFFSETFROM:+0100
TZOFFSETTO:+0000
TZNAME:GMT
DTSTART:20241027T010000
END:STANDARD
BEGIN:DAYLIGHT
TZOFFSETFROM:+0000
TZOFFSETTO:+0100
TZNAME:BST
DTSTART:20250330T010000
END:DAYLIGHT
BEGIN:STANDARD
TZOFFSETFROM:+0100
TZOFFSETTO:+0000
TZNAME:GMT
DTSTART:20251026T010000
END:STANDARD
END:VTIMEZONE
BEGIN:VEVENT
DTSTART;TZID=Europe/London:20231231T193000
DTEND;TZID=Europe/London:20240101T020000
DTSTAMP:20260422T001945
CREATED:20231204T173452Z
LAST-MODIFIED:20231204T173452Z
UID:1986-1704051000-1704074400@roundaboutclubsandy.co.uk
SUMMARY:NYE Headlined by Back To The 80’s
DESCRIPTION:Celebrate NYE at The Roundy headlined by one of the country’s very best tribute bands!\nwe are thrilled to announce our NYE plans are available for purchase. The club are delighted to share that this years celebration will be headlined by Back To The 80’s. Get ready to party with an 80’s themed evening\, a delicious hot & cold buffet\, and prizes for the best dressed! As an added bonus\, all ticket holders will receive a free drink upon arrival. Plus with every ticket purchased you will be entered into our exclusive raffle to win some incredible prizes.\nMembers price – £25. Non members £30 \nTickets are available directly from behind the bar. Grab your ticket now and don’t miss out on the biggest New Years Eve celebration in town!\n18+ this event will take place in The Victory Suite. No ticket\, no entry.
URL:https://roundaboutclubsandy.co.uk/entertainment/nye-headlined-by-back-to-the-80s/
LOCATION:The roundabout club\, Bedford Road\, Sandy\, SG191El\, United Kingdom
END:VEVENT
END:VCALENDAR