BEGIN:VCALENDAR
VERSION:2.0
PRODID:-//The Roundabout club - ECPv6.15.20//NONSGML v1.0//EN
CALSCALE:GREGORIAN
METHOD:PUBLISH
X-ORIGINAL-URL:https://roundaboutclubsandy.co.uk
X-WR-CALDESC:Events for The Roundabout club
REFRESH-INTERVAL;VALUE=DURATION:PT1H
X-Robots-Tag:noindex
X-PUBLISHED-TTL:PT1H
BEGIN:VTIMEZONE
TZID:Europe/London
BEGIN:DAYLIGHT
TZOFFSETFROM:+0000
TZOFFSETTO:+0100
TZNAME:BST
DTSTART:20230326T010000
END:DAYLIGHT
BEGIN:STANDARD
TZOFFSETFROM:+0100
TZOFFSETTO:+0000
TZNAME:GMT
DTSTART:20231029T010000
END:STANDARD
BEGIN:DAYLIGHT
TZOFFSETFROM:+0000
TZOFFSETTO:+0100
TZNAME:BST
DTSTART:20240331T010000
END:DAYLIGHT
BEGIN:STANDARD
TZOFFSETFROM:+0100
TZOFFSETTO:+0000
TZNAME:GMT
DTSTART:20241027T010000
END:STANDARD
BEGIN:DAYLIGHT
TZOFFSETFROM:+0000
TZOFFSETTO:+0100
TZNAME:BST
DTSTART:20250330T010000
END:DAYLIGHT
BEGIN:STANDARD
TZOFFSETFROM:+0100
TZOFFSETTO:+0000
TZNAME:GMT
DTSTART:20251026T010000
END:STANDARD
END:VTIMEZONE
BEGIN:VEVENT
DTSTART;TZID=Europe/London:20240308T213000
DTEND;TZID=Europe/London:20240309T000000
DTSTAMP:20260421T201312
CREATED:20240124T184119Z
LAST-MODIFIED:20240124T184119Z
UID:2014-1709933400-1709942400@roundaboutclubsandy.co.uk
SUMMARY:The Polaroidz
DESCRIPTION:A night of Alternative Hits from 1979 – 1985… a mix of Indie/Synth-Pop/New Wave/Post-Punk and more… covering all the best artists and big hits from that awesome era of music. 4 fantastic musicians creating some very special music live this Friday night. \nFree to members. Guest sign in £3 \n 
URL:https://roundaboutclubsandy.co.uk/entertainment/the-polaroidz-3/
LOCATION:The roundabout club\, Bedford Road\, Sandy\, SG191El\, United Kingdom
END:VEVENT
END:VCALENDAR