BEGIN:VCALENDAR
VERSION:2.0
PRODID:-//The Roundabout club - ECPv6.15.20//NONSGML v1.0//EN
CALSCALE:GREGORIAN
METHOD:PUBLISH
X-ORIGINAL-URL:https://roundaboutclubsandy.co.uk
X-WR-CALDESC:Events for The Roundabout club
REFRESH-INTERVAL;VALUE=DURATION:PT1H
X-Robots-Tag:noindex
X-PUBLISHED-TTL:PT1H
BEGIN:VTIMEZONE
TZID:Europe/London
BEGIN:DAYLIGHT
TZOFFSETFROM:+0000
TZOFFSETTO:+0100
TZNAME:BST
DTSTART:20240331T010000
END:DAYLIGHT
BEGIN:STANDARD
TZOFFSETFROM:+0100
TZOFFSETTO:+0000
TZNAME:GMT
DTSTART:20241027T010000
END:STANDARD
BEGIN:DAYLIGHT
TZOFFSETFROM:+0000
TZOFFSETTO:+0100
TZNAME:BST
DTSTART:20250330T010000
END:DAYLIGHT
BEGIN:STANDARD
TZOFFSETFROM:+0100
TZOFFSETTO:+0000
TZNAME:GMT
DTSTART:20251026T010000
END:STANDARD
BEGIN:DAYLIGHT
TZOFFSETFROM:+0000
TZOFFSETTO:+0100
TZNAME:BST
DTSTART:20260329T010000
END:DAYLIGHT
BEGIN:STANDARD
TZOFFSETFROM:+0100
TZOFFSETTO:+0000
TZNAME:GMT
DTSTART:20261025T010000
END:STANDARD
BEGIN:DAYLIGHT
TZOFFSETFROM:+0000
TZOFFSETTO:+0100
TZNAME:BST
DTSTART:20270328T010000
END:DAYLIGHT
BEGIN:STANDARD
TZOFFSETFROM:+0100
TZOFFSETTO:+0000
TZNAME:GMT
DTSTART:20271031T010000
END:STANDARD
END:VTIMEZONE
BEGIN:VEVENT
DTSTART;TZID=Europe/London:20250830T213000
DTEND;TZID=Europe/London:20250830T233000
DTSTAMP:20260421T062335
CREATED:20250704T162300Z
LAST-MODIFIED:20250704T162326Z
UID:2187-1756589400-1756596600@roundaboutclubsandy.co.uk
SUMMARY:World on Fire
DESCRIPTION:World On Fire is a hugely exciting up-and-coming band that we are delighted to announce a live evening with at the Roundy! Covering an awesome mix of 80s and 90s rock and pop bangers in their very own unique style and some of their original material in 2 sets that will have you rocking from the very first song! Fronted by the amazingly talented Liv on lead vocals\, it’s going to be a blast. So come down\, support this utterly brilliant band\, have a ‘DRINK’ and hit the dance floor. Support live and local music! Non-members £4 / Free to members
URL:https://roundaboutclubsandy.co.uk/entertainment/world-on-fire/
LOCATION:The roundabout club\, Bedford Road\, Sandy\, SG191El\, United Kingdom
ATTACH;FMTTYPE=image/png:https://roundaboutclubsandy.co.uk/wp-content/uploads/2025/07/World-On-Fire.png
END:VEVENT
BEGIN:VEVENT
DTSTART;TZID=Europe/London:20250906T213000
DTEND;TZID=Europe/London:20250906T233000
DTSTAMP:20260421T062335
CREATED:20250704T162858Z
LAST-MODIFIED:20250704T164304Z
UID:2190-1757194200-1757201400@roundaboutclubsandy.co.uk
SUMMARY:Blitzed Kidz
DESCRIPTION:This belter of a duo is back for a second performance at the club for 2025. Covering the likes of Bowie\, Tears for Fears\, Simple Minds\, to the likes of Gary Numan\, Culture Club and Duran Duran. Come down and support 2 awesome musicians putting on an epic evening of live music. Non-members £4 / Free to members \n 
URL:https://roundaboutclubsandy.co.uk/entertainment/blitzed-kidz-4/
LOCATION:The roundabout club\, Bedford Road\, Sandy\, SG191El\, United Kingdom
ATTACH;FMTTYPE=image/png:https://roundaboutclubsandy.co.uk/wp-content/uploads/2025/07/Blitzed-Kidz-.png
END:VEVENT
BEGIN:VEVENT
DTSTART;TZID=Europe/London:20250912T203000
DTEND;TZID=Europe/London:20250912T233000
DTSTAMP:20260421T062335
CREATED:20250704T163215Z
LAST-MODIFIED:20250704T164243Z
UID:2194-1757709000-1757719800@roundaboutclubsandy.co.uk
SUMMARY:DJ Jingles Karaoke
DESCRIPTION:A Friday night themed karaoke! Non-members £3 / Free to members
URL:https://roundaboutclubsandy.co.uk/entertainment/dj-jingles-karaoke-5/
LOCATION:The roundabout club\, Bedford Road\, Sandy\, SG191El\, United Kingdom
ATTACH;FMTTYPE=image/png:https://roundaboutclubsandy.co.uk/wp-content/uploads/2025/07/KARAOKE-2.png
END:VEVENT
BEGIN:VEVENT
DTSTART;TZID=Europe/London:20250920T213000
DTEND;TZID=Europe/London:20250921T000000
DTSTAMP:20260421T062335
CREATED:20250704T164158Z
LAST-MODIFIED:20250909T180156Z
UID:2201-1758403800-1758412800@roundaboutclubsandy.co.uk
SUMMARY:Solarzone
DESCRIPTION:The Roundy is delighted to announce that Solarzone will be making their club debut this September in Sandy. \nOne of the most prominent 80’s bands on the live circuit\, Solarzone bring their distinctive synth-pop with a rock edge sound exclusively to our stage. Known for taking classic 80’s hits and reimagining them with their own style\, their trademark mash-ups and bold arrangements create a performance that feels both unique and familiar. \nFronted by rasping\, soulful lead vocals and backed by silky four-part harmonies\, Solarzone deliver a powerful\, energetic sound that guarantees to get the crowd moving. \nEvent Details \n\nDate: September 2025\nTime: 9:30 PM – Midnight\nAdmission: £4 (non-members)\n\nCome down and give these guys the warm Roundy welcome they deserve. This is an evening not to be missed.
URL:https://roundaboutclubsandy.co.uk/entertainment/freddyb-band/
LOCATION:The roundabout club\, Bedford Road\, Sandy\, SG191El\, United Kingdom
ATTACH;FMTTYPE=image/png:https://roundaboutclubsandy.co.uk/wp-content/uploads/2025/07/Solarzone.png
END:VEVENT
BEGIN:VEVENT
DTSTART;TZID=Europe/London:20250927T213000
DTEND;TZID=Europe/London:20250928T000000
DTSTAMP:20260421T062336
CREATED:20250909T175331Z
LAST-MODIFIED:20250909T181440Z
UID:2364-1759008600-1759017600@roundaboutclubsandy.co.uk
SUMMARY:Mr Rainmaker
DESCRIPTION:We’re delighted to welcome back the hugely popular Mr Rainmaker this September 2025. \nLong-time friends of The Roundy and firm crowd favourites\, this versatile 4-piece band knows exactly how to put on a great show. With a setlist that spans rock\, pop\, blues and soul\, expect a night of top-class live music from some of the best in the business. \nEvent Details \n\nDate: 27th September 2025\nTime: 9:30 PM – Midnight\nAdmission: £4 (non-members)\n\nMr Rainmaker always draws a crowd\, so make sure this one is in your diary.
URL:https://roundaboutclubsandy.co.uk/entertainment/mr-rainmaker-7/
LOCATION:The roundabout club\, Bedford Road\, Sandy\, SG191El\, United Kingdom
ATTACH;FMTTYPE=image/png:https://roundaboutclubsandy.co.uk/wp-content/uploads/2025/09/Web-images.png
END:VEVENT
BEGIN:VEVENT
DTSTART;TZID=Europe/London:20251004T213000
DTEND;TZID=Europe/London:20251005T000000
DTSTAMP:20260421T062336
CREATED:20250909T181337Z
LAST-MODIFIED:20250909T184548Z
UID:2370-1759613400-1759622400@roundaboutclubsandy.co.uk
SUMMARY:The Revivals
DESCRIPTION:We’re thrilled to welcome back the utterly brilliant The Revivals for their second appearance of 2025. \nKnown for their high-energy performances\, The Revivals bring a setlist that spans the decades\, from the 60s right through to the Noughties. \nExpect everything from The Beatles to Blondie to Blur\, with plenty of soul and Motown classics added into the mix. \nA true crowd-pleaser\, this is live music at its best\, a night guaranteed to get you singing\, dancing\, and celebrating some of the greatest songs ever written. \nEvent Details \n\nDate: 4th October 2025\nTime: 9:30 PM – Midnight\nAdmission: £4 (non-members)\n\nCome down\, support a brilliant band\, and enjoy an evening packed with unforgettable live music.
URL:https://roundaboutclubsandy.co.uk/entertainment/the-revivals/
LOCATION:The roundabout club\, Bedford Road\, Sandy\, SG191El\, United Kingdom
ATTACH;FMTTYPE=image/png:https://roundaboutclubsandy.co.uk/wp-content/uploads/2025/09/The-Revivals.png
END:VEVENT
BEGIN:VEVENT
DTSTART;TZID=Europe/London:20251011T093000
DTEND;TZID=Europe/London:20251012T000000
DTSTAMP:20260421T062336
CREATED:20250909T182349Z
LAST-MODIFIED:20250909T184453Z
UID:2373-1760175000-1760227200@roundaboutclubsandy.co.uk
SUMMARY:The Atomics
DESCRIPTION:Back for their second performance of 2025\, the absolutely fantastic The Atomics are ready to light up the stage once again. \nSpecialising in the very best of retro new wave\, The Atomics deliver a powerful set packed with hits from Blondie\, The Cars\, Adam & The Ants\, Squeeze\, David Bowie\, and many more. Their energy is infectious\, their sound is spot on\, and their shows never fail to get the dance floor moving. \nIf you love classic new wave\, this is the night for you. Grab your dancing shoes\, bring your friends\, and get ready for a celebration of some of the most iconic music of the era. \nEvent Details \n\nDate: 11th October 2025\nTime: 9:30 PM – Midnight\nAdmission: £4 (non-members)\n\nA huge night of music awaits — don’t miss it.
URL:https://roundaboutclubsandy.co.uk/entertainment/the-atomics-4/
LOCATION:The roundabout club\, Bedford Road\, Sandy\, SG191El\, United Kingdom
ATTACH;FMTTYPE=image/png:https://roundaboutclubsandy.co.uk/wp-content/uploads/2025/09/The-Atomics.png
END:VEVENT
BEGIN:VEVENT
DTSTART;TZID=Europe/London:20251017T193000
DTEND;TZID=Europe/London:20251017T220000
DTSTAMP:20260421T062336
CREATED:20250909T183453Z
LAST-MODIFIED:20250909T183555Z
UID:2379-1760729400-1760738400@roundaboutclubsandy.co.uk
SUMMARY:Mrs Smith - 1\, 2\, 3 Eyes on Me Tour
DESCRIPTION:The Roundy is thrilled to announce Mrs Smith with her brand-new show 1\,2\,3\, Eyes on Me! – live in Sandy. \nEver wondered what your teacher was really thinking? Let Facebook sensation Mrs Smith enlighten you. \nOriginally an ordinary teacher in an ordinary school\, Mrs Smith went viral online and accidentally became a comedian. Following the huge success of her sellout 2023 debut at the Edinburgh Fringe\, she now returns with this highly anticipated follow-up show. \nHer hilarious\, heartfelt and thought-provoking posts – written from the perspective of a passionate\, long-suffering primary school teacher – have taken social media by storm\, earning her two consecutive Funny Women Award nominations for Best Online Content. \nWhat the critics say: \n\n“Mrs Smith transforms the stage into a classroom of laughter and nostalgia.”\n“A delightful mix of humour and relatability.”\n“Hilarious – a very big gold star for Mrs Smith!”\n\nEvent Details \n\nDate: Friday 17th October\nTime: 8:00 PM – 10:00 PM (Doors open 7:30 PM)\nVenue: The Victory Suite\nAdmission: £18\nStrictly ticket only\nAge Restriction: 18+\nPlease Note: No photography is permitted throughout this event.\n\nhttps://wegottickets.com/event/666345?sfnsn=scwspmo \nStrictly a ticket only event. Please follow the link above to purchase tickets. \nCome and see why Mrs Smith has captured hearts (and laughter) across the UK. This is comedy with a gold star.
URL:https://roundaboutclubsandy.co.uk/entertainment/mrs-smith-1-2-3-eyes-on-me-tour/
LOCATION:Victory Suite\, THE ROUNDABOUT CLUB BEDFORD ROAD\, SANDY\, Bedfordshire\, SG19 1EL\, United Kingdom
ATTACH;FMTTYPE=image/png:https://roundaboutclubsandy.co.uk/wp-content/uploads/2025/09/Mrs-Smith.png
END:VEVENT
BEGIN:VEVENT
DTSTART;TZID=Europe/London:20251018T213000
DTEND;TZID=Europe/London:20251019T000000
DTSTAMP:20260421T062336
CREATED:20250909T184412Z
LAST-MODIFIED:20251016T191503Z
UID:2383-1760823000-1760832000@roundaboutclubsandy.co.uk
SUMMARY:Big Phat Jukebox
DESCRIPTION:Back for the second time in 2025\, The Roundy is proud to present the return of Big Phat Jukebox this October. \nThis epic 5-piece party band are guaranteed to bring the energy\, delivering two huge sets of live music that cover pop\, rock\, ska and disco. Known for their dynamic performances and crowd-pleasing repertoire\, Big Phat Jukebox are the perfect soundtrack to a night out. \nEvent Details \n\nDate: 18th October 2025\nTime: 9:30 PM – Midnight\nAdmission: £4 (non-members)\n\nGet ready for a floor-filling night of music — one not to be missed.
URL:https://roundaboutclubsandy.co.uk/entertainment/big-phat-jukebox/
LOCATION:The roundabout club\, Bedford Road\, Sandy\, SG191El\, United Kingdom
ATTACH;FMTTYPE=image/png:https://roundaboutclubsandy.co.uk/wp-content/uploads/2025/09/Big-Phat-Jukebox.png
END:VEVENT
BEGIN:VEVENT
DTSTART;TZID=Europe/London:20251024T203000
DTEND;TZID=Europe/London:20251024T233000
DTSTAMP:20260421T062336
CREATED:20250910T172850Z
LAST-MODIFIED:20250910T174521Z
UID:2422-1761337800-1761348600@roundaboutclubsandy.co.uk
SUMMARY:DJ Jingles Karaoke
DESCRIPTION:Join us on Friday 24th October 2025 for a fun-filled night of karaoke with DJ Jingles. \nWhether you’re a seasoned singer or just in it for the laughs\, DJ Jingles will be hosting an evening of music\, entertainment and plenty of crowd favourites. \nGet ready to take the mic\, cheer on your friends\, and enjoy a lively night at The Roundy. \nEvent Details \n\nDate: Friday 24th October 2025\nTime: 8:30 PM – 11:30 PM\nAdmission: £3 (non-members)\n\nA night of music\, fun and laughter — come and be part of it.
URL:https://roundaboutclubsandy.co.uk/entertainment/dj-jingles-karaoke-6/
LOCATION:The roundabout club\, Bedford Road\, Sandy\, SG191El\, United Kingdom
ATTACH;FMTTYPE=image/png:https://roundaboutclubsandy.co.uk/wp-content/uploads/2025/07/KARAOKE-2.png
END:VEVENT
BEGIN:VEVENT
DTSTART;TZID=Europe/London:20251025T210000
DTEND;TZID=Europe/London:20251026T000000
DTSTAMP:20260421T062336
CREATED:20250910T174327Z
LAST-MODIFIED:20250910T174327Z
UID:2424-1761426000-1761436800@roundaboutclubsandy.co.uk
SUMMARY:Buccaneer
DESCRIPTION:We’re delighted to welcome back Buccaneer for their second visit of the year to The Roundabout Club\, Sandy. \nContinuing their world cruise of clubs and pubs\, this talented 4-piece band bring a night of high-energy classic rock and pop from the 60s\, 70s\, 80s and more. With a setlist guaranteed to get folks up and dancing\, Buccaneer always deliver a fun-filled night of live music. \nEvent Details \n\nDate: Saturday 25th October 2025\nTime: 9:00 PM – 11:45 PM\nAdmission: £4 (non-members)\n\nA brilliant night of live music and dancing awaits — don’t miss it.
URL:https://roundaboutclubsandy.co.uk/entertainment/buccaneer-3/
LOCATION:The roundabout club\, Bedford Road\, Sandy\, SG191El\, United Kingdom
ATTACH;FMTTYPE=image/png:https://roundaboutclubsandy.co.uk/wp-content/uploads/2025/09/Buccaneer.png
END:VEVENT
BEGIN:VEVENT
DTSTART;TZID=Europe/London:20251101T210000
DTEND;TZID=Europe/London:20251102T000000
DTSTAMP:20260421T062336
CREATED:20250910T175307Z
LAST-MODIFIED:20250910T175307Z
UID:2427-1762030800-1762041600@roundaboutclubsandy.co.uk
SUMMARY:Popscene
DESCRIPTION:Get ready for a night of pure Britpop and indie anthems as Popscene take the stage at The Roundabout Club\, Sandy. \nThis fantastic 4-piece band deliver the very best of the great British sound\, covering favourites from Arctic Monkeys\, Blur\, Kaiser Chiefs\, Cast\, Stereophonics\, James\, Stone Roses\, Paul Weller\, Ocean Colour Scene\, Oasis\, Pulp\, Supergrass and more. \nWith a setlist that’s as cool as it is danceable\, Popscene guarantee a floor-filling night of non-stop classics. If you love Britpop and indie\, this is one not to miss. \nEvent Details \n\nDate: Saturday 1st November\nTime: 9:00 PM – Midnight\nVenue: The Roundabout Club\, Sandy\nAdmission: £4 (non-members)\n\nAll the Britpop & indie classics you know and love — see you down the front!
URL:https://roundaboutclubsandy.co.uk/entertainment/popscene-5/
LOCATION:The roundabout club\, Bedford Road\, Sandy\, SG191El\, United Kingdom
ATTACH;FMTTYPE=image/png:https://roundaboutclubsandy.co.uk/wp-content/uploads/2025/09/Popscene.png
END:VEVENT
BEGIN:VEVENT
DTSTART;TZID=Europe/London:20251108T213000
DTEND;TZID=Europe/London:20251109T000000
DTSTAMP:20260421T062336
CREATED:20250910T180150Z
LAST-MODIFIED:20250910T180150Z
UID:2430-1762637400-1762646400@roundaboutclubsandy.co.uk
SUMMARY:Funk Odyssey
DESCRIPTION:We’re excited to welcome back Funk Odyssey for their second appearance of the year at The Roundabout Club\, Sandy. \nThis outstanding 5-piece band bring the best of soul\, funk and disco\, creating an epic evening of live music that always gets the crowd moving. Known for their tight musicianship and infectious grooves\, Funk Odyssey are a true gem of a band and a guaranteed night to remember. \nEvent Details \n\nDate: Saturday 8th November\nTime: 9:30 PM – Midnight\nAdmission: £4 (non-members)\n\nOne for the calendar — don’t miss Funk Odyssey live.
URL:https://roundaboutclubsandy.co.uk/entertainment/funk-odyssey-5/
LOCATION:The roundabout club\, Bedford Road\, Sandy\, SG191El\, United Kingdom
ATTACH;FMTTYPE=image/png:https://roundaboutclubsandy.co.uk/wp-content/uploads/2025/09/Funk-Odyssey.png
END:VEVENT
BEGIN:VEVENT
DTSTART;TZID=Europe/London:20251121T093000
DTEND;TZID=Europe/London:20251122T000000
DTSTAMP:20260421T062336
CREATED:20251013T184154Z
LAST-MODIFIED:20251013T184154Z
UID:2537-1763717400-1763769600@roundaboutclubsandy.co.uk
SUMMARY:Lia Gray
DESCRIPTION:Get ready to groove with Lia Gray – bringing the best of 70s Soul\, Funk & Disco to The Roundabout Club\, Sandy 💃🕺 \n🕤 Time: 9:30PM – Midnight\n💷 Entry: £4 (Non-members)\n📍 The Roundabout Club\, Sandy
URL:https://roundaboutclubsandy.co.uk/entertainment/lia-gray-6/
LOCATION:The roundabout club\, Bedford Road\, Sandy\, SG191El\, United Kingdom
ATTACH;FMTTYPE=image/jpeg:https://roundaboutclubsandy.co.uk/wp-content/uploads/2025/10/IMG_0289.jpeg
END:VEVENT
BEGIN:VEVENT
DTSTART;TZID=Europe/London:20251122T213000
DTEND;TZID=Europe/London:20251123T000000
DTSTAMP:20260421T062336
CREATED:20251013T185233Z
LAST-MODIFIED:20251013T185233Z
UID:2540-1763847000-1763856000@roundaboutclubsandy.co.uk
SUMMARY:Twango & Crash
DESCRIPTION:🎸 Twango & Crash Live at The Roundabout Club\, Sandy 🎤 \nTwo familiar faces. Two epic musicians. One huge night of awesome live music! 🙌 \nThe boys in vests are back for 2025\, bringing their unique blend of acoustic vocals and top-tier musicianship to the stage. Expect a massive mix of songs across all genres\, performed with energy\, humour\, and style — guaranteed to get the crowd singing along! 🎶 \n📅 9:30pm – Midnight \n💷 Non-members £2 \nJoin us for an evening of brilliant fun — it’s going to be a blast! 💥
URL:https://roundaboutclubsandy.co.uk/entertainment/twango-crash-2/
LOCATION:The roundabout club\, Bedford Road\, Sandy\, SG191El\, United Kingdom
ATTACH;FMTTYPE=image/jpeg:https://roundaboutclubsandy.co.uk/wp-content/uploads/2025/10/IMG_0292.jpeg
END:VEVENT
BEGIN:VEVENT
DTSTART;TZID=Europe/London:20251129T213000
DTEND;TZID=Europe/London:20251130T000000
DTSTAMP:20260421T062336
CREATED:20251013T190430Z
LAST-MODIFIED:20251013T190430Z
UID:2543-1764451800-1764460800@roundaboutclubsandy.co.uk
SUMMARY:Uche Eke
DESCRIPTION:🎤 Uche Eke Live at The Roundabout Club\, Sandy 🎶 \nBack for his second show of 2025\, we’re thrilled to welcome back a great friend to the club — the wonderful Uche Eke! \nAn internationally acclaimed soul singer\, Uche has performed lead vocals with 70s superstars Hot Chocolate and former members of The Drifters. His smooth\, powerful voice and effortless style bring to life classics from Luther Vandross\, Barry White\, Dean Martin\, George Benson\, The Whispers\, and many more. \nSo\, grab your dancing shoes and hit the floor for an unforgettable night of soul and swing with Uche! 💃🕺 \n📅 9:30pm – Midnight \n💷 Non-members £2
URL:https://roundaboutclubsandy.co.uk/entertainment/uche-eke/
LOCATION:The roundabout club\, Bedford Road\, Sandy\, SG191El\, United Kingdom
ATTACH;FMTTYPE=image/jpeg:https://roundaboutclubsandy.co.uk/wp-content/uploads/2025/10/IMG_0294.jpeg
END:VEVENT
BEGIN:VEVENT
DTSTART;TZID=Europe/London:20251205T213000
DTEND;TZID=Europe/London:20251206T000000
DTSTAMP:20260421T062336
CREATED:20251014T061135Z
LAST-MODIFIED:20251014T061135Z
UID:2554-1764970200-1764979200@roundaboutclubsandy.co.uk
SUMMARY:Fishing For Robots
DESCRIPTION:We’re thrilled to welcome back the epic Fishing For Robots for their second show of 2025! 🎸 \nThis powerhouse trio brings a high-energy mix of rock and synth-pop classics — featuring hits from Depeche Mode\, Tears For Fears\, Bowie\, Ultravox\, New Order\, Simple Minds\, Human League\, OMD\, Duran Duran\, and many more. Expect a night packed with retro favourites and dancefloor anthems to kick off the Roundy’s Christmas entertainment in style! \n📅 9pm – Midnight💷 Non-members £2
URL:https://roundaboutclubsandy.co.uk/entertainment/fishing-for-robots/
LOCATION:The roundabout club\, Bedford Road\, Sandy\, SG191El\, United Kingdom
ATTACH;FMTTYPE=image/jpeg:https://roundaboutclubsandy.co.uk/wp-content/uploads/2025/10/Fishing-For-Robots.jpg
END:VEVENT
BEGIN:VEVENT
DTSTART;TZID=Europe/London:20251212T200000
DTEND;TZID=Europe/London:20251212T233000
DTSTAMP:20260421T062336
CREATED:20251014T061741Z
LAST-MODIFIED:20251014T061741Z
UID:2561-1765569600-1765582200@roundaboutclubsandy.co.uk
SUMMARY:DJ Jingles Karaoke
DESCRIPTION:A Friday night themed karaoke! \nNon-members £2 / Free to members
URL:https://roundaboutclubsandy.co.uk/entertainment/dj-jingles-karaoke-7/
LOCATION:Sandy
ATTACH;FMTTYPE=image/png:https://roundaboutclubsandy.co.uk/wp-content/uploads/2025/07/KARAOKE-2.png
END:VEVENT
BEGIN:VEVENT
DTSTART;TZID=Europe/London:20251213T213000
DTEND;TZID=Europe/London:20251214T000000
DTSTAMP:20260421T062336
CREATED:20251014T062119Z
LAST-MODIFIED:20251014T062119Z
UID:2563-1765661400-1765670400@roundaboutclubsandy.co.uk
SUMMARY:Rock Party (Indie Rock)
DESCRIPTION:Get ready for a Christmas special as we welcome back the awesome Rock Party this December! 🎸 \nFeaturing some of the best musicians around\, this band delivers an unforgettable mix of indie and rock anthems guaranteed to make it an epic festive night out. \nDon’t miss one of the highlights of the Roundy’s Christmas season! \n📅 9:30pm – Midnight💷 Non-members £2
URL:https://roundaboutclubsandy.co.uk/entertainment/rock-party-indie-rock/
LOCATION:The roundabout club\, Bedford Road\, Sandy\, SG191El\, United Kingdom
ATTACH;FMTTYPE=image/jpeg:https://roundaboutclubsandy.co.uk/wp-content/uploads/2025/10/Rock-Party-Indie-Rock.jpg
END:VEVENT
BEGIN:VEVENT
DTSTART;TZID=Europe/London:20251227T213000
DTEND;TZID=Europe/London:20251228T000000
DTSTAMP:20260421T062336
CREATED:20251014T061442Z
LAST-MODIFIED:20251201T213111Z
UID:2557-1766871000-1766880000@roundaboutclubsandy.co.uk
SUMMARY:Back To The 50s
DESCRIPTION:We’re delighted to welcome back the awesome Back To The 50s – a dynamic power trio bringing 1950s Rock & Roll into the modern day! 🎸 \nGet ready to twist\, jive\, and surf the night away to all the golden-era classics\, delivered with irresistible energy and vintage flair. It’s a feel-good night guaranteed to get you moving! \n📅 9:30pm – Midnight💷 Non-members £2
URL:https://roundaboutclubsandy.co.uk/entertainment/back-to-the-50s/
LOCATION:The roundabout club\, Bedford Road\, Sandy\, SG191El\, United Kingdom
ATTACH;FMTTYPE=image/jpeg:https://roundaboutclubsandy.co.uk/wp-content/uploads/2025/10/Back-To-The-50s-1.jpg
END:VEVENT
BEGIN:VEVENT
DTSTART;TZID=Europe/London:20251231T193000
DTEND;TZID=Europe/London:20260101T010000
DTSTAMP:20260421T062336
CREATED:20251003T193110Z
LAST-MODIFIED:20251208T174104Z
UID:2499-1767209400-1767229200@roundaboutclubsandy.co.uk
SUMMARY:New Years 2025
DESCRIPTION:🎉 2025 New Year’s Eve Party at The Roundabout Club 🎉\nRing in the New Year in style with The Revivals\, a sensational 5-piece band guaranteed to keep you on the dance floor all night! \nThe Revivals will be playing a set that spans the decades from the 60s through to the Noughties\, everything from The Beatles to Blondie to Blur with plenty of soul and Motown classics thrown in too. Not to be missed! \nTickets available behind the bar as well \n✨ What’s Included: \nBig screen countdown to midnight \nBuffet & raffle \nBar open until 1am \n🎟️ Tickets \nMembers Tickets: £20 \nNon-Members Tickets: £25 \nNo tickets on the door \nMemberships will be checked if you have purchased a members ticket! \n📅 Event Details: \nDoors open: 7:30pm \nBand starts: 9:30pm \nLast Entry: 10pm
URL:https://roundaboutclubsandy.co.uk/entertainment/new-years-2025/
LOCATION:Victory Suite\, THE ROUNDABOUT CLUB BEDFORD ROAD\, SANDY\, Bedfordshire\, SG19 1EL\, United Kingdom
ATTACH;FMTTYPE=image/jpeg:https://roundaboutclubsandy.co.uk/wp-content/uploads/2025/10/New-Years-Eve-2025.jpg
END:VEVENT
BEGIN:VEVENT
DTSTART;TZID=Europe/London:20260320T200000
DTEND;TZID=Europe/London:20260321T000000
DTSTAMP:20260421T062336
CREATED:20251013T181058Z
LAST-MODIFIED:20260319T195911Z
UID:2531-1774036800-1774051200@roundaboutclubsandy.co.uk
SUMMARY:Wholly Soul - Sold Out
DESCRIPTION:Get ready for an unforgettable evening of soul\, swing\, and classic hits! \nThe Soul Man (aka Peter Symphorien) brings the magic of soul legends to life with powerful renditions of Barry White\, Luther Vandross\, George Benson\, The Temptations\, The Drifters\, and more — plus a touch of reggae and his original tracks. With his rich\, soulful voice and infectious energy\, Peter guarantees to lift the crowd. \nSharing the stage is the incredible Uche Eke\, an internationally acclaimed vocalist who has performed with 70s icons Hot Chocolate and former members of The Drifters. \nUche’s smooth vocals and effortless style shine through soul and swing favourites from Luther Vandross\, Michael Bublé\, Frank Sinatra\, Nat King Cole\, and beyond. \n📍 Event Details: \n\nVenue: Victory Suite\nDoors Open: 8:00pm\nTickets: Members £5 | Non-members £7 (+£1 booking fee)\nOnline booking only\n\n⚠️ Please Note: \nThis event is extremely popular and often sells out\, so early booking and arrival are strongly advised. \nThe club is not liable or responsible for any changes in acts. In the event of unforeseen circumstances\, suitable replacements will be provided. \nNo refunds available. \n*Please ensure you buy the correct tickets. Memberships will be checked on the door*
URL:https://roundaboutclubsandy.co.uk/entertainment/wholly-soul-2/
LOCATION:Victory Suite\, THE ROUNDABOUT CLUB BEDFORD ROAD\, SANDY\, Bedfordshire\, SG19 1EL\, United Kingdom
ATTACH;FMTTYPE=image/jpeg:https://roundaboutclubsandy.co.uk/wp-content/uploads/2025/10/IMG_0287.jpeg
END:VEVENT
END:VCALENDAR