BEGIN:VCALENDAR
VERSION:2.0
PRODID:-//The Roundabout club - ECPv6.15.20//NONSGML v1.0//EN
CALSCALE:GREGORIAN
METHOD:PUBLISH
X-WR-CALNAME:The Roundabout club
X-ORIGINAL-URL:https://roundaboutclubsandy.co.uk
X-WR-CALDESC:Events for The Roundabout club
REFRESH-INTERVAL;VALUE=DURATION:PT1H
X-Robots-Tag:noindex
X-PUBLISHED-TTL:PT1H
BEGIN:VTIMEZONE
TZID:Europe/London
BEGIN:DAYLIGHT
TZOFFSETFROM:+0000
TZOFFSETTO:+0100
TZNAME:BST
DTSTART:20210328T010000
END:DAYLIGHT
BEGIN:STANDARD
TZOFFSETFROM:+0100
TZOFFSETTO:+0000
TZNAME:GMT
DTSTART:20211031T010000
END:STANDARD
BEGIN:DAYLIGHT
TZOFFSETFROM:+0000
TZOFFSETTO:+0100
TZNAME:BST
DTSTART:20220327T010000
END:DAYLIGHT
BEGIN:STANDARD
TZOFFSETFROM:+0100
TZOFFSETTO:+0000
TZNAME:GMT
DTSTART:20221030T010000
END:STANDARD
BEGIN:DAYLIGHT
TZOFFSETFROM:+0000
TZOFFSETTO:+0100
TZNAME:BST
DTSTART:20230326T010000
END:DAYLIGHT
BEGIN:STANDARD
TZOFFSETFROM:+0100
TZOFFSETTO:+0000
TZNAME:GMT
DTSTART:20231029T010000
END:STANDARD
BEGIN:DAYLIGHT
TZOFFSETFROM:+0000
TZOFFSETTO:+0100
TZNAME:BST
DTSTART:20240331T010000
END:DAYLIGHT
BEGIN:STANDARD
TZOFFSETFROM:+0100
TZOFFSETTO:+0000
TZNAME:GMT
DTSTART:20241027T010000
END:STANDARD
END:VTIMEZONE
BEGIN:VEVENT
DTSTART;TZID=Europe/London:20230311T213000
DTEND;TZID=Europe/London:20230312T000000
DTSTAMP:20260422T040350
CREATED:20230103T121624Z
LAST-MODIFIED:20230103T122346Z
UID:1435-1678570200-1678579200@roundaboutclubsandy.co.uk
SUMMARY:Rocket Fuel
DESCRIPTION:Rocket Fuel return to the club for another show stopping night of live entertainment! This popular 4 piece rock/pop covers band from Hertfordshire are bound to get you rocking through the decades of music! Artists include Queen\, Bowie\, AC/DC\, Deacon Blue and many more.  \nLive on the stage 9:30pm. Guests £3
URL:https://roundaboutclubsandy.co.uk/entertainment/rocket-fuel-2/
LOCATION:The roundabout club\, Bedford Road\, Sandy\, SG191El\, United Kingdom
END:VEVENT
BEGIN:VEVENT
DTSTART;TZID=Europe/London:20230310T210000
DTEND;TZID=Europe/London:20230311T000000
DTSTAMP:20260422T040350
CREATED:20230226T184907Z
LAST-MODIFIED:20230226T184907Z
UID:1727-1678482000-1678492800@roundaboutclubsandy.co.uk
SUMMARY:Buccaneer
DESCRIPTION:Buccaneer are here for 2023! We are delighted to welcome this 4 piece band to the roundabout club. Playing 3 sets covering pop\, rock and everything in between from the 60’s\, 70’s and 80’s and with local lad Phil on lead vocals its going to be a lively one! Come down and give them the Roundy welcome. Please note this is a 9pm start time. Non members £3
URL:https://roundaboutclubsandy.co.uk/entertainment/buccaneer/
LOCATION:The roundabout club\, Bedford Road\, Sandy\, SG191El\, United Kingdom
END:VEVENT
BEGIN:VEVENT
DTSTART;TZID=Europe/London:20230304T213000
DTEND;TZID=Europe/London:20230305T000000
DTSTAMP:20260422T040350
CREATED:20230103T121436Z
LAST-MODIFIED:20230103T121444Z
UID:1433-1677965400-1677974400@roundaboutclubsandy.co.uk
SUMMARY:Jam 69
DESCRIPTION:Jam 69 are a band dedicated to delivering the best live experience to all fans of The Jam\, punk\, New Wave & Ska. Covering tunes from The Jam\, Buzzcocks\, The Undertones\, The Who\, The Sex Pistols and many more! Come down and support local and live music! Live on the stage 9:30pm. Guests £3
URL:https://roundaboutclubsandy.co.uk/entertainment/jam-69/
LOCATION:The roundabout club\, Bedford Road\, Sandy\, SG191El\, United Kingdom
END:VEVENT
BEGIN:VEVENT
DTSTART;TZID=Europe/London:20230303T213000
DTEND;TZID=Europe/London:20230304T000000
DTSTAMP:20260422T040350
CREATED:20230226T184735Z
LAST-MODIFIED:20230226T184735Z
UID:1725-1677879000-1677888000@roundaboutclubsandy.co.uk
SUMMARY:The Darkside Owls
DESCRIPTION:We kick off the month of March with the welcome of this duo. Kev Hall & Gayle Fraser bring you twisting covers in an acoustic ‘fashion’ firmly in the style of the radio 1 live lounge! With Covers from Dua Lipa to the Beatles with their own composition thrown into the mix & audience requests welcomed it should be a great night down the front! Live on the stage 9:30pm. Non members £3
URL:https://roundaboutclubsandy.co.uk/entertainment/the-darkside-owls/
LOCATION:The roundabout club\, Bedford Road\, Sandy\, SG191El\, United Kingdom
END:VEVENT
BEGIN:VEVENT
DTSTART;TZID=Europe/London:20230225T213000
DTEND;TZID=Europe/London:20230226T000000
DTSTAMP:20260422T040350
CREATED:20230103T121003Z
LAST-MODIFIED:20230103T121003Z
UID:1431-1677360600-1677369600@roundaboutclubsandy.co.uk
SUMMARY:Mr  Rainmaker
DESCRIPTION:Back from their unbelievable NYE celebration with us we are delighted MR Rainmaker are making their first appearance of 2023 at the RC! A crowd favourite who really know how to put on a great gig! A versatile\, experienced 4 piece covering rock\, pop to blues and soul. Live on the stage 9:30pm. Guests £3
URL:https://roundaboutclubsandy.co.uk/entertainment/mr-rainmaker-2/
LOCATION:The roundabout club\, Bedford Road\, Sandy\, SG191El\, United Kingdom
END:VEVENT
BEGIN:VEVENT
DTSTART;TZID=Europe/London:20230224T213000
DTEND;TZID=Europe/London:20230225T000000
DTSTAMP:20260422T040350
CREATED:20230102T213900Z
LAST-MODIFIED:20230102T213936Z
UID:1429-1677274200-1677283200@roundaboutclubsandy.co.uk
SUMMARY:Lia gray
DESCRIPTION:Lia has quickly become a firm favourite with our members and guests  here at the club and we are delighted to welcome her back for 2023! Covering everything from Soul\, MoTown classics to funk\, rnb & pop! It has everything to be a great Friday night entertainment here at The Roundy! \nLive on the stage 9:30pm guests £3
URL:https://roundaboutclubsandy.co.uk/entertainment/lia-gray-2/
LOCATION:Sandy
END:VEVENT
BEGIN:VEVENT
DTSTART;TZID=Europe/London:20230218T213000
DTEND;TZID=Europe/London:20230219T000000
DTSTAMP:20260422T040350
CREATED:20230102T213242Z
LAST-MODIFIED:20230102T213242Z
UID:1427-1676755800-1676764800@roundaboutclubsandy.co.uk
SUMMARY:Popscene
DESCRIPTION:BRITPOP CRAZY AT THE CLUB. Popscene are a Britpop covers band playing all the great British sounds. Playing covers from Oasis\, Arctic Monkeys\, Blur\, Pulp\, Stone Roses & many more. Grab your Adidas or Fred Perry & get down the RC for what will be a lively one! Live from 9:30pm. (guests £3) 
URL:https://roundaboutclubsandy.co.uk/entertainment/popscene-2/
LOCATION:Sandy
END:VEVENT
BEGIN:VEVENT
DTSTART;TZID=Europe/London:20230217T210000
DTEND;TZID=Europe/London:20230218T000000
DTSTAMP:20260422T040350
CREATED:20230205T163521Z
LAST-MODIFIED:20230205T163521Z
UID:1607-1676667600-1676678400@roundaboutclubsandy.co.uk
SUMMARY:Valentines karaoke/disco
DESCRIPTION:
URL:https://roundaboutclubsandy.co.uk/entertainment/valentines-karaoke-disco/
LOCATION:The roundabout club\, Bedford Road\, Sandy\, SG191El\, United Kingdom
END:VEVENT
BEGIN:VEVENT
DTSTART;TZID=Europe/London:20230211T213000
DTEND;TZID=Europe/London:20230212T000000
DTSTAMP:20260422T040350
CREATED:20230102T212848Z
LAST-MODIFIED:20230102T213002Z
UID:1425-1676151000-1676160000@roundaboutclubsandy.co.uk
SUMMARY:Leanora Soul - Valentines Special
DESCRIPTION:What an early valentines treat we have! Music brings people together and this fantastic band bring the essence of this with the ultimate fusion of reggae classics & beautiful soul music. A Perfect evening of live music.  \nLive on the stage 9:30pm 
URL:https://roundaboutclubsandy.co.uk/entertainment/leanora-soul-valentines-special/
LOCATION:Sandy
END:VEVENT
BEGIN:VEVENT
DTSTART;TZID=Europe/London:20230210T213000
DTEND;TZID=Europe/London:20230211T213000
DTSTAMP:20260422T040350
CREATED:20230123T172950Z
LAST-MODIFIED:20230123T172950Z
UID:1468-1676064600-1676151000@roundaboutclubsandy.co.uk
SUMMARY:ExAct Duo
DESCRIPTION:ExAct are a high energy vocal duo\, guaranteed to get the club rocking! Sally is well known for fronting the band ‘Flare’ and Jaydee is an established solo performer. Covering a wide range of styles from rock\, pop\, to Jazz\, Disco and even a special opera thrown in. Live on the stage 9:30pm. Non members £3
URL:https://roundaboutclubsandy.co.uk/entertainment/exact-duo/
LOCATION:The roundabout club\, Bedford Road\, Sandy\, SG191El\, United Kingdom
END:VEVENT
BEGIN:VEVENT
DTSTART;TZID=Europe/London:20230204T213000
DTEND;TZID=Europe/London:20230205T000000
DTSTAMP:20260422T040350
CREATED:20230102T212223Z
LAST-MODIFIED:20230102T212223Z
UID:1423-1675546200-1675555200@roundaboutclubsandy.co.uk
SUMMARY:Max Headroom
DESCRIPTION:The Indie Rock specialists are back! The trio from Ely are a high energy rock band playing everything from 60’s rock/pop to 90’s indie rock. If you’ve not seen them before\, come down & experience a great band!  \nLive on the stage 9:30pm. Guests £3
URL:https://roundaboutclubsandy.co.uk/entertainment/max-headroom-2/
LOCATION:Sandy
END:VEVENT
BEGIN:VEVENT
DTSTART;TZID=Europe/London:20230128T213000
DTEND;TZID=Europe/London:20230129T000000
DTSTAMP:20260422T040350
CREATED:20230102T211841Z
LAST-MODIFIED:20230102T211841Z
UID:1420-1674941400-1674950400@roundaboutclubsandy.co.uk
SUMMARY:The Denotones. 60’s Experience
DESCRIPTION:After unfortunately having to cancel back in December we are delighted to confirm the rearranged date to welcome back The Denotones! A great tribute to the fantastic 60’s greats. Covering the likes of The Beatles\, The Drifters\, The Small Faces\, Buddy Holly & many more. Grab your dancing shoes and head down to the dance floor!  \nLive on the stage 9:30pm. Guests £3
URL:https://roundaboutclubsandy.co.uk/entertainment/the-denotones-60s-experience-2/
LOCATION:Sandy
END:VEVENT
BEGIN:VEVENT
DTSTART;TZID=Europe/London:20230121T210000
DTEND;TZID=Europe/London:20230122T000000
DTSTAMP:20260422T040350
CREATED:20230113T221346Z
LAST-MODIFIED:20230113T221811Z
UID:1460-1674334800-1674345600@roundaboutclubsandy.co.uk
SUMMARY:DJ Jingles Karaoke
DESCRIPTION:Resident house DJ ‘Jingles’ is back for the new year! Here at the Roundy 8 till late with his legendary set. With his famous light show and unique DJ mix it really is a set you don’t want to miss! If you fancy your 5 minutes of fame & your chance to sing live on the stage then don’t miss this opportunity! Live on the stage from 9:00pm. Guests £3
URL:https://roundaboutclubsandy.co.uk/entertainment/dj-jingles-karaoke/
LOCATION:The roundabout club\, Bedford Road\, Sandy\, SG191El\, United Kingdom
END:VEVENT
BEGIN:VEVENT
DTSTART;TZID=Europe/London:20230120T210000
DTEND;TZID=Europe/London:20230121T000000
DTSTAMP:20260422T040350
CREATED:20230102T211341Z
LAST-MODIFIED:20230102T211341Z
UID:1418-1674248400-1674259200@roundaboutclubsandy.co.uk
SUMMARY:Roxy Searle
DESCRIPTION:New to 2023! What a way to kick off our Entertainment calendar here at the club. We are delighted to welcome Roxy Searle to the RC! Roxy is a local singer songwriter performing acoustic covers of all your favourite songs! Her debut single ‘Country Girl’ was released in February last year & has been streamed over 3\,000 times! Come down and give Roxy the Roundy welcome.  \nLive on the stage 9:30pm. £3 guests
URL:https://roundaboutclubsandy.co.uk/entertainment/roxy-searle/
LOCATION:Sandy
END:VEVENT
BEGIN:VEVENT
DTSTART;TZID=Europe/London:20221231T080000
DTEND;TZID=Europe/London:20230101T010000
DTSTAMP:20260422T040350
CREATED:20220911T210825Z
LAST-MODIFIED:20221203T164909Z
UID:883-1672473600-1672534800@roundaboutclubsandy.co.uk
SUMMARY:Mr Rainmaker/ Twango & Crash/ Blitzed Kidz
DESCRIPTION:3 Bands 1 fantastic evening live to us for our New Years Eve celebration!! More details on tickets will be released very shortly.
URL:https://roundaboutclubsandy.co.uk/entertainment/mr-rainmaker-twango-crash-blitzed-kidz/
LOCATION:The roundabout club\, Bedford Road\, Sandy\, SG191El\, United Kingdom
END:VEVENT
BEGIN:VEVENT
DTSTART;TZID=Europe/London:20221223T213000
DTEND;TZID=Europe/London:20221224T000000
DTSTAMP:20260422T040350
CREATED:20220911T210719Z
LAST-MODIFIED:20220911T210719Z
UID:880-1671831000-1671840000@roundaboutclubsandy.co.uk
SUMMARY:Soul Sisters
DESCRIPTION:We welcome back some familiar faces to the club Jayne and Woo\, as The Soul Sisters. 2 of the best singers around teaming up to bring you the very best soul covers from the 60’s right up to today! £3 non members
URL:https://roundaboutclubsandy.co.uk/entertainment/soul-sisters/
LOCATION:The roundabout club\, Bedford Road\, Sandy\, SG191El\, United Kingdom
END:VEVENT
BEGIN:VEVENT
DTSTART;TZID=Europe/London:20221217T213000
DTEND;TZID=Europe/London:20221218T000000
DTSTAMP:20260422T040350
CREATED:20220911T210548Z
LAST-MODIFIED:20220911T210548Z
UID:877-1671312600-1671321600@roundaboutclubsandy.co.uk
SUMMARY:Six Go Mad
DESCRIPTION:What a Christmas cracker!  If you managed to see this amazing band earlier in the year then you will know what a brilliant gig they provide! Playing a thrilling mix of memorable material from the heyday of the 80s to present day hits! A club night you don’t want to miss!
URL:https://roundaboutclubsandy.co.uk/entertainment/six-go-mad-2/
LOCATION:The roundabout club\, Bedford Road\, Sandy\, SG191El\, United Kingdom
END:VEVENT
BEGIN:VEVENT
DTSTART;TZID=Europe/London:20221216T213000
DTEND;TZID=Europe/London:20221217T000000
DTSTAMP:20260422T040350
CREATED:20220911T210304Z
LAST-MODIFIED:20220911T210304Z
UID:874-1671226200-1671235200@roundaboutclubsandy.co.uk
SUMMARY:Lia Gray
DESCRIPTION:We are delighted to welcome Lia back to the Roundy for a Christmas special£ Covering everything from Soul\, Motown classics to funk\, rnb and pop it has everything to be a great night! £3 non members
URL:https://roundaboutclubsandy.co.uk/entertainment/lia-gray/
LOCATION:The roundabout club\, Bedford Road\, Sandy\, SG191El\, United Kingdom
END:VEVENT
BEGIN:VEVENT
DTSTART;TZID=Europe/London:20221210T213000
DTEND;TZID=Europe/London:20221211T000000
DTSTAMP:20260422T040350
CREATED:20220911T205910Z
LAST-MODIFIED:20221205T180558Z
UID:871-1670707800-1670716800@roundaboutclubsandy.co.uk
SUMMARY:Queenergy -‘Queen Tribute Band’
DESCRIPTION:We are delighted to welcome back Queenergy to the club. The UK’s premier tribute band to one of the most iconic rock bands of all time\, Queen! Non members £5
URL:https://roundaboutclubsandy.co.uk/entertainment/queenergy-queen-tribute-band/
LOCATION:Victory Suite\, THE ROUNDABOUT CLUB BEDFORD ROAD\, SANDY\, Bedfordshire\, SG19 1EL\, United Kingdom
END:VEVENT
BEGIN:VEVENT
DTSTART;TZID=Europe/London:20221209T081500
DTEND;TZID=Europe/London:20221209T224500
DTSTAMP:20260422T040350
CREATED:20220911T205655Z
LAST-MODIFIED:20221120T201016Z
UID:868-1670573700-1670625900@roundaboutclubsandy.co.uk
SUMMARY:SOLD OUT Comedy Evening. ‘Christmas Special’ Headlined by Paul Sinha
DESCRIPTION:We are delighted to be bringing Sandy it’s very own Christmas special comedy evening! Exclusively live in our brand new Victory Suite function room. Perfect for Christmas parties\, celebrations or gatherings! a classic mixed bill of comedy ft Tv name & rising stars. Star studded line up (subject to change) and all the info regarding ticket prices can be found in the link below (think the link can be found on the castle comedy Sandy Facebook page) tickets £14 Doors open 7:30pm.
URL:https://roundaboutclubsandy.co.uk/entertainment/comedy-evening-christmas-special-headlined-by-paul-sinha/
LOCATION:Victory Suite\, THE ROUNDABOUT CLUB BEDFORD ROAD\, SANDY\, Bedfordshire\, SG19 1EL\, United Kingdom
ORGANIZER;CN="Castle Comedy Sandy":MAILTO:castlecomedy@hotmail.co.uk
END:VEVENT
BEGIN:VEVENT
DTSTART;TZID=Europe/London:20221203T213000
DTEND;TZID=Europe/London:20221204T000000
DTSTAMP:20260422T040350
CREATED:20220911T205308Z
LAST-MODIFIED:20220911T205308Z
UID:865-1670103000-1670112000@roundaboutclubsandy.co.uk
SUMMARY:The Denotones - 60’s Experience
DESCRIPTION:The roundabout club are thrilled to welcome back this very popular band! The Denotones 60’s experience is a 5 piece band\, playing all the best tracks from the golden era! A brilliant evening of entertainment. £3 non members
URL:https://roundaboutclubsandy.co.uk/entertainment/the-denotones-60s-experience/
LOCATION:The roundabout club\, Bedford Road\, Sandy\, SG191El\, United Kingdom
END:VEVENT
BEGIN:VEVENT
DTSTART;TZID=Europe/London:20221202T213000
DTEND;TZID=Europe/London:20221203T000000
DTSTAMP:20260422T040350
CREATED:20220911T205120Z
LAST-MODIFIED:20220911T205120Z
UID:862-1670016600-1670025600@roundaboutclubsandy.co.uk
SUMMARY:Max Headroom
DESCRIPTION:The Indie Rock specialists are back! The trio from Ely are a high energy rock band playing everything from 60’s rock/pop to 90’s Indie rock. If you’ve not seen them before\, come down and experience a great band! Arrive early to avoid disappointment! £3 non members
URL:https://roundaboutclubsandy.co.uk/entertainment/max-headroom/
LOCATION:The roundabout club\, Bedford Road\, Sandy\, SG191El\, United Kingdom
END:VEVENT
BEGIN:VEVENT
DTSTART;TZID=Europe/London:20221126T213000
DTEND;TZID=Europe/London:20221127T000000
DTSTAMP:20260422T040350
CREATED:20220911T204945Z
LAST-MODIFIED:20220911T204945Z
UID:859-1669498200-1669507200@roundaboutclubsandy.co.uk
SUMMARY:Popscene
DESCRIPTION:BRITPOP CRAZY AT THE CLUB. Popscene are a Britpop covers band playing all the great British sounds. Playing covers from Oasis\,arctic monkeys\, Blur\, Pulp\, Stone roses & many more. So Grab your Adidas and Fred Perry and get down to the RC for a Lively one! £3 non members
URL:https://roundaboutclubsandy.co.uk/entertainment/popscene/
LOCATION:The roundabout club\, Bedford Road\, Sandy\, SG191El\, United Kingdom
END:VEVENT
BEGIN:VEVENT
DTSTART;TZID=Europe/London:20221125T213000
DTEND;TZID=Europe/London:20221126T000000
DTSTAMP:20260422T040350
CREATED:20220911T204815Z
LAST-MODIFIED:20220911T204815Z
UID:856-1669411800-1669420800@roundaboutclubsandy.co.uk
SUMMARY:Lord Baker’s Soul & Ska show
DESCRIPTION:New tour name for 2022 but still a friendly face making a welcomed return to the club. Simon Baker is a fantastic singer who we are delighted is bringing back the Soul & Ska show! A brilliant night of entertainment and one not to be missed! £3 non members
URL:https://roundaboutclubsandy.co.uk/entertainment/lord-bakers-soul-ska-show-2/
LOCATION:The roundabout club\, Bedford Road\, Sandy\, SG191El\, United Kingdom
END:VEVENT
BEGIN:VEVENT
DTSTART;TZID=Europe/London:20221119T213000
DTEND;TZID=Europe/London:20221120T000000
DTSTAMP:20260422T040350
CREATED:20220911T204603Z
LAST-MODIFIED:20221107T142448Z
UID:853-1668893400-1668902400@roundaboutclubsandy.co.uk
SUMMARY:2Tones ‘Ska Night’
DESCRIPTION:THIS IS SKA! 2Tones is one of Northamptonshire & Bedfordshire’s leading ska performers! A real crowd favourite\, with local lad Gav on lead vocals it’s going to be lively! \nFree to members – £3 for guests \n*Please note we are expecting high volumes of visitors to the club\, Please arrive early to avoid disappointment
URL:https://roundaboutclubsandy.co.uk/entertainment/2tones-ska-night/
LOCATION:The roundabout club\, Bedford Road\, Sandy\, SG191El\, United Kingdom
END:VEVENT
BEGIN:VEVENT
DTSTART;TZID=Europe/London:20221112T213000
DTEND;TZID=Europe/London:20221113T000000
DTSTAMP:20260422T040350
CREATED:20220911T204407Z
LAST-MODIFIED:20220911T204407Z
UID:850-1668288600-1668297600@roundaboutclubsandy.co.uk
SUMMARY:Mr Rainmaker
DESCRIPTION:Delighted Mr Rainmaker is making a welcome return to us at the club. A crowd favourite who really knows how to put on a great gig! A versatile\, experienced 4 piece band covering rock\, pop\, to blues and soul! £3 non members
URL:https://roundaboutclubsandy.co.uk/entertainment/mr-rainmaker/
LOCATION:The roundabout club\, Bedford Road\, Sandy\, SG191El\, United Kingdom
END:VEVENT
BEGIN:VEVENT
DTSTART;TZID=Europe/London:20221105T213000
DTEND;TZID=Europe/London:20221106T000000
DTSTAMP:20260422T040350
CREATED:20220911T204135Z
LAST-MODIFIED:20220911T204135Z
UID:847-1667683800-1667692800@roundaboutclubsandy.co.uk
SUMMARY:Back to the 80’s - Tribute Night
DESCRIPTION:What a fire cracker this is going to be! One of the best 80’s tribute bands currently in the U.K. A 5 piece band playing all the favourites from one of the best musical eras! Taking you back to the 80’s and relive your youth. FANCY DRESS IS WELCOMED £3 non members
URL:https://roundaboutclubsandy.co.uk/entertainment/back-to-the-80s-tribute-night/
LOCATION:The roundabout club\, Bedford Road\, Sandy\, SG191El\, United Kingdom
END:VEVENT
BEGIN:VEVENT
DTSTART;TZID=Europe/London:20221104T213000
DTEND;TZID=Europe/London:20221105T000000
DTSTAMP:20260422T040350
CREATED:20220911T203857Z
LAST-MODIFIED:20220911T203857Z
UID:844-1667597400-1667606400@roundaboutclubsandy.co.uk
SUMMARY:Kev Hall & Friends
DESCRIPTION:Something a little different for Friday night! An evening with Kev Hall & friends in what is an informal singalong that will include lots of audience participation! You can expect great vocals\, unique keyboard skills & awesome percussion. Lots of banter & maybe a drink or 2! £3 non members
URL:https://roundaboutclubsandy.co.uk/entertainment/kev-hall-friends/
LOCATION:The roundabout club\, Bedford Road\, Sandy\, SG191El\, United Kingdom
END:VEVENT
BEGIN:VEVENT
DTSTART;TZID=Europe/London:20221029T213000
DTEND;TZID=Europe/London:20221030T000000
DTSTAMP:20260422T040350
CREATED:20220911T203637Z
LAST-MODIFIED:20220911T203637Z
UID:840-1667079000-1667088000@roundaboutclubsandy.co.uk
SUMMARY:Jam69
DESCRIPTION:We are delighted to welcome back Jam69 to the club! Covering songs from The Jam\, Buzzcocks\, The Undertones to The specials\, The Sex Pistols and many more! A fantastic band that will leave you wanting more. Non members £3
URL:https://roundaboutclubsandy.co.uk/entertainment/jam69/
LOCATION:The roundabout club\, Bedford Road\, Sandy\, SG191El\, United Kingdom
END:VEVENT
BEGIN:VEVENT
DTSTART;TZID=Europe/London:20221022T193000
DTEND;TZID=Europe/London:20221022T233000
DTSTAMP:20260422T040350
CREATED:20220711T171442Z
LAST-MODIFIED:20221022T092221Z
UID:680-1666467000-1666481400@roundaboutclubsandy.co.uk
SUMMARY:One Step Behind
DESCRIPTION:One Step Behind are not only The UK’s premier and longest surviving Madness tribute band but they are also the only Madness tribute band to be approved by Madness themselves!\nAs seen on ‘BBC proms in the park’ and live on ITV. Other gigs include the likes of Wembley stadium\, Alexandra Palace\, Cheltenham Race course and now The Roundabout Club!\nDon’t miss this unique chance to see one of the best tribute bands in not just England but also Europe!
URL:https://roundaboutclubsandy.co.uk/entertainment/one-step-behind/
LOCATION:Victory Suite\, THE ROUNDABOUT CLUB BEDFORD ROAD\, SANDY\, Bedfordshire\, SG19 1EL\, United Kingdom
END:VEVENT
END:VCALENDAR