BEGIN:VCALENDAR
VERSION:2.0
PRODID:-//The Roundabout club - ECPv6.15.20//NONSGML v1.0//EN
CALSCALE:GREGORIAN
METHOD:PUBLISH
X-WR-CALNAME:The Roundabout club
X-ORIGINAL-URL:https://roundaboutclubsandy.co.uk
X-WR-CALDESC:Events for The Roundabout club
REFRESH-INTERVAL;VALUE=DURATION:PT1H
X-Robots-Tag:noindex
X-PUBLISHED-TTL:PT1H
BEGIN:VTIMEZONE
TZID:Europe/London
BEGIN:DAYLIGHT
TZOFFSETFROM:+0000
TZOFFSETTO:+0100
TZNAME:BST
DTSTART:20210328T010000
END:DAYLIGHT
BEGIN:STANDARD
TZOFFSETFROM:+0100
TZOFFSETTO:+0000
TZNAME:GMT
DTSTART:20211031T010000
END:STANDARD
BEGIN:DAYLIGHT
TZOFFSETFROM:+0000
TZOFFSETTO:+0100
TZNAME:BST
DTSTART:20220327T010000
END:DAYLIGHT
BEGIN:STANDARD
TZOFFSETFROM:+0100
TZOFFSETTO:+0000
TZNAME:GMT
DTSTART:20221030T010000
END:STANDARD
BEGIN:DAYLIGHT
TZOFFSETFROM:+0000
TZOFFSETTO:+0100
TZNAME:BST
DTSTART:20230326T010000
END:DAYLIGHT
BEGIN:STANDARD
TZOFFSETFROM:+0100
TZOFFSETTO:+0000
TZNAME:GMT
DTSTART:20231029T010000
END:STANDARD
END:VTIMEZONE
BEGIN:VEVENT
DTSTART;TZID=Europe/London:20221015T213000
DTEND;TZID=Europe/London:20221016T000000
DTSTAMP:20260422T040528
CREATED:20220911T202728Z
LAST-MODIFIED:20220911T202728Z
UID:837-1665869400-1665878400@roundaboutclubsandy.co.uk
SUMMARY:Soul Enforcement Bureau
DESCRIPTION:A welcome return to this fantastic 8 piece band who will keep you all night dancing away with a live non stop Motown\, Stax\, Atlantic and Northern souls hit night! So dig those dancing shoes out and hit the dance floor Non members £3 \n 
URL:https://roundaboutclubsandy.co.uk/entertainment/soul-enforcement-bureau-2/
LOCATION:The roundabout club\, Bedford Road\, Sandy\, SG191El\, United Kingdom
END:VEVENT
BEGIN:VEVENT
DTSTART;TZID=Europe/London:20221008T213000
DTEND;TZID=Europe/London:20221009T000000
DTSTAMP:20260422T040528
CREATED:20221002T125939Z
LAST-MODIFIED:20221002T130041Z
UID:1097-1665264600-1665273600@roundaboutclubsandy.co.uk
SUMMARY:Dirty Half Hundred
DESCRIPTION:‘The Dirty Half Hundred’ are here on saturday night! Fusing modern & classic soul/funk\, R’n’b & rock covers. ‘TDHH’ have entertained audiences up and down the country with their high energy\, inclusive show! Come down and support live music (Non members £3)
URL:https://roundaboutclubsandy.co.uk/entertainment/dirty-half-hundred/
LOCATION:The roundabout club\, Bedford Road\, Sandy\, SG191El\, United Kingdom
END:VEVENT
BEGIN:VEVENT
DTSTART;TZID=Europe/London:20221007T213000
DTEND;TZID=Europe/London:20221008T000000
DTSTAMP:20260422T040528
CREATED:20221002T125822Z
LAST-MODIFIED:20221002T130028Z
UID:1094-1665178200-1665187200@roundaboutclubsandy.co.uk
SUMMARY:Benny ‘Guitar’ Smith
DESCRIPTION:New to 2022! Ben Smith has been a professional singer/guitarist both in bands and as a solo artist since 1990. He has also played with various touring shows including Dave Berry\, Wayne Fontana\, Mike Pender and the Nolans! Ben has also supported Rod Stewart\, Ronan Keating\, The Brand New Heavies and many other top artists. Covering a variety of genres come down and give him the Roundy welcome! £3 guests
URL:https://roundaboutclubsandy.co.uk/entertainment/benny-guitar-smith/
LOCATION:The roundabout club\, Bedford Road\, Sandy\, SG191El\, United Kingdom
END:VEVENT
BEGIN:VEVENT
DTSTART;TZID=Europe/London:20221001T200000
DTEND;TZID=Europe/London:20221002T000000
DTSTAMP:20260422T040528
CREATED:20220918T212224Z
LAST-MODIFIED:20221001T130529Z
UID:887-1664654400-1664668800@roundaboutclubsandy.co.uk
SUMMARY:Victory suite opening night - Back to the 80's (SOLD OUT)
DESCRIPTION:To celebrate the launch of our brand new Victory Suite Function room we are delighted to welcome to have back to the 80’s with us! One of the best 80’s tribute bands currently in the U.K. A 5 piece band is playing all the favourites from one of the best musical eras! Taking you back to the 80’s and reliving your youth. This event is free to members. Perfect opportunity for non members to come and see our brand new suite!
URL:https://roundaboutclubsandy.co.uk/entertainment/back-to-the-80s/
LOCATION:Victory Suite\, THE ROUNDABOUT CLUB BEDFORD ROAD\, SANDY\, Bedfordshire\, SG19 1EL\, United Kingdom
END:VEVENT
BEGIN:VEVENT
DTSTART;TZID=Europe/London:20220924T213000
DTEND;TZID=Europe/London:20220925T000000
DTSTAMP:20260422T040528
CREATED:20220713T114744Z
LAST-MODIFIED:20220713T114744Z
UID:758-1664055000-1664064000@roundaboutclubsandy.co.uk
SUMMARY:Huggy Flares
DESCRIPTION:Huggy Flares are back in town!! Playing everything Disco and Funk with all the classics Involved. A brilliant band who will get you up dancing the night away.  \nNon members £3 charge at door
URL:https://roundaboutclubsandy.co.uk/entertainment/huggy-flares/
LOCATION:The roundabout club\, Bedford Road\, Sandy\, SG191El\, United Kingdom
END:VEVENT
BEGIN:VEVENT
DTSTART;TZID=Europe/London:20220917T213000
DTEND;TZID=Europe/London:20220918T000000
DTSTAMP:20260422T040528
CREATED:20220911T185657Z
LAST-MODIFIED:20220911T185657Z
UID:823-1663450200-1663459200@roundaboutclubsandy.co.uk
SUMMARY:Groove Connection
DESCRIPTION:Groove Connection is a brilliant soul/funk/disco covers band. Covering all the classics from all your favourites! Come down and support live music.  Non members £3
URL:https://roundaboutclubsandy.co.uk/entertainment/groove-connection/
LOCATION:The roundabout club\, Bedford Road\, Sandy\, SG191El\, United Kingdom
END:VEVENT
BEGIN:VEVENT
DTSTART;TZID=Europe/London:20220916T210000
DTEND;TZID=Europe/London:20220917T000000
DTSTAMP:20260422T040528
CREATED:20220911T185303Z
LAST-MODIFIED:20220911T185303Z
UID:820-1663362000-1663372800@roundaboutclubsandy.co.uk
SUMMARY:Karaoke/ Disco
DESCRIPTION:House Dj Jingles is back. \nFree to members\, £2 guests.
URL:https://roundaboutclubsandy.co.uk/entertainment/karaoke-disco/
LOCATION:The roundabout club\, Bedford Road\, Sandy\, SG191El\, United Kingdom
END:VEVENT
BEGIN:VEVENT
DTSTART;TZID=Europe/London:20220910T213000
DTEND;TZID=Europe/London:20220911T000000
DTSTAMP:20260422T040528
CREATED:20220713T114547Z
LAST-MODIFIED:20220713T114609Z
UID:754-1662845400-1662854400@roundaboutclubsandy.co.uk
SUMMARY:Six Go Mad
DESCRIPTION:What a night we have planned! If you managed to see this amazing band grace the stage here @ The Club then you will know what a brilliant gig they provide! Playing a thrilling mix of memorable material from the heyday of the 80’s to present day hits! A club night you don’t want to miss! \nNon members £3 charge at door
URL:https://roundaboutclubsandy.co.uk/entertainment/six-go-mad/
LOCATION:The roundabout club\, Bedford Road\, Sandy\, SG191El\, United Kingdom
END:VEVENT
BEGIN:VEVENT
DTSTART;TZID=Europe/London:20220903T213000
DTEND;TZID=Europe/London:20220904T000000
DTSTAMP:20260422T040528
CREATED:20220713T114420Z
LAST-MODIFIED:20220713T114420Z
UID:751-1662240600-1662249600@roundaboutclubsandy.co.uk
SUMMARY:Uche Eke ‘Soul Weekend’
DESCRIPTION:The perfect finish to our soul weekend extravaganza! We are delighted to welcome back Uche who is an amazing soul singer. He has previously dazzled crowds here at the club & with his new set it’s bound to be a night of pure quality entertainment! A crowd favourite who’s not to be missed!! \nNon members £3 charge at door
URL:https://roundaboutclubsandy.co.uk/entertainment/uche-eke-soul-weekend/
LOCATION:The roundabout club\, Bedford Road\, Sandy\, SG191El\, United Kingdom
END:VEVENT
BEGIN:VEVENT
DTSTART;TZID=Europe/London:20220902T213000
DTEND;TZID=Europe/London:20220903T000000
DTSTAMP:20260422T040528
CREATED:20220713T114233Z
LAST-MODIFIED:20220713T114233Z
UID:748-1662154200-1662163200@roundaboutclubsandy.co.uk
SUMMARY:Lia Gray ‘Soul Weekend
DESCRIPTION:What a way to kick off our soul weekend! We are delighted to welcome Lia back to the Roundy! Covering everything from Soul\, Motown classics to funk\, rnb and pop it has everything to be a great night! Come down and support local music. \nNon members £3 charge at door
URL:https://roundaboutclubsandy.co.uk/entertainment/lia-gray-soul-weekend/
LOCATION:The roundabout club\, Bedford Road\, Sandy\, SG191El\, United Kingdom
END:VEVENT
BEGIN:VEVENT
DTSTART;TZID=Europe/London:20220826T213000
DTEND;TZID=Europe/London:20220827T000000
DTSTAMP:20260422T040528
CREATED:20220713T113912Z
LAST-MODIFIED:20220713T113912Z
UID:745-1661549400-1661558400@roundaboutclubsandy.co.uk
SUMMARY:Blacksmith
DESCRIPTION:You asked for them back… The club delivered! The outstanding Blacksmith join us for a Friday night like no other!  F.T The legendary Podge as lead. He is known for being the best AC/DC tribute singer in the Uk. Playing everything classic rock this your last chance to catch them in 2022 @ The Club! \nNon members £3 charge at door
URL:https://roundaboutclubsandy.co.uk/entertainment/blacksmith-2/
LOCATION:The roundabout club\, Bedford Road\, Sandy\, SG191El\, United Kingdom
END:VEVENT
BEGIN:VEVENT
DTSTART;TZID=Europe/London:20220820T213000
DTEND;TZID=Europe/London:20220821T000000
DTSTAMP:20260422T040528
CREATED:20220713T113746Z
LAST-MODIFIED:20220713T113746Z
UID:742-1661031000-1661040000@roundaboutclubsandy.co.uk
SUMMARY:Rocket Fuel
DESCRIPTION:Rocket Fuel return for their 2nd gig of the summer at The Club! Boasting a hit-filled set list\, they will have you dancing & singing all night as they rock through several decades of music. Including artists such as Queen\, AC/DC\, Bowie to Van Halen and many more. \nNon members £3 charge at door
URL:https://roundaboutclubsandy.co.uk/entertainment/rocket-fuel/
LOCATION:The roundabout club\, Bedford Road\, Sandy\, SG191El\, United Kingdom
END:VEVENT
BEGIN:VEVENT
DTSTART;TZID=Europe/London:20220813T213000
DTEND;TZID=Europe/London:20220814T000000
DTSTAMP:20260422T040528
CREATED:20220713T113619Z
LAST-MODIFIED:20220713T113619Z
UID:739-1660426200-1660435200@roundaboutclubsandy.co.uk
SUMMARY:Lord Baker’s Soul & Ska show
DESCRIPTION:new tour name for 2022 but still a friendly face making a welcomed return to the club. Simon Baker is a fantastic singer who we are delighted is bringing back the Soul & Ska show! A brilliant night of entertainment and one not to be missed! \nNon members £3 charge at door
URL:https://roundaboutclubsandy.co.uk/entertainment/lord-bakers-soul-ska-show/
LOCATION:The roundabout club\, Bedford Road\, Sandy\, SG191El\, United Kingdom
END:VEVENT
BEGIN:VEVENT
DTSTART;TZID=Europe/London:20220806T213000
DTEND;TZID=Europe/London:20220807T000000
DTSTAMP:20260422T040528
CREATED:20220713T113444Z
LAST-MODIFIED:20220713T113509Z
UID:735-1659821400-1659830400@roundaboutclubsandy.co.uk
SUMMARY:Twango & Crash
DESCRIPTION:acoustic vocal duo (2 very familiar faces to us at the club) with a large repertoire of songs covering all types of genres. Bringing their unique energy and vibes it’s a gig that ticks all the boxes! \nNon members £3 charge at door
URL:https://roundaboutclubsandy.co.uk/entertainment/twango-crash/
LOCATION:The roundabout club\, Bedford Road\, Sandy\, SG191El\, United Kingdom
END:VEVENT
BEGIN:VEVENT
DTSTART;TZID=Europe/London:20220730T213000
DTEND;TZID=Europe/London:20220731T000000
DTSTAMP:20260422T040528
CREATED:20220713T113253Z
LAST-MODIFIED:20220713T113312Z
UID:731-1659216600-1659225600@roundaboutclubsandy.co.uk
SUMMARY:Basic Cable Band
DESCRIPTION:We are delighted to welcome back Basic Cable to The RC! A 4 piece band based in Cambridgeshire playing all the rock songs. A guaranteed set that will leave you wanting more. Come down and support live music! \nNon members £3 charge at door
URL:https://roundaboutclubsandy.co.uk/entertainment/basic-cable-band/
LOCATION:The roundabout club\, Bedford Road\, Sandy\, SG191El\, United Kingdom
END:VEVENT
BEGIN:VEVENT
DTSTART;TZID=Europe/London:20220729T213000
DTEND;TZID=Europe/London:20220730T000000
DTSTAMP:20260422T040528
CREATED:20220713T112918Z
LAST-MODIFIED:20220713T112918Z
UID:728-1659130200-1659139200@roundaboutclubsandy.co.uk
SUMMARY:Blacksmith
DESCRIPTION:We are thrilled to welcome back the supergroup Blacksmith! F.T The legendary Podge as lead. He is known for being the best AC/DC tribute singer in the Uk. Playing everything classic rock this is One not too miss. \nNon members £3 charge at door
URL:https://roundaboutclubsandy.co.uk/entertainment/blacksmith/
LOCATION:The roundabout club\, Bedford Road\, Sandy\, SG191El\, United Kingdom
END:VEVENT
BEGIN:VEVENT
DTSTART;TZID=Europe/London:20220723T213000
DTEND;TZID=Europe/London:20220724T000000
DTSTAMP:20260422T040528
CREATED:20220713T112632Z
LAST-MODIFIED:20220713T113044Z
UID:724-1658611800-1658620800@roundaboutclubsandy.co.uk
SUMMARY:Soul Enforcement Bureau
DESCRIPTION:Summer soul time at The Roundy! As the Soul Enforcement Bureau give out large helpings of classic soul dance music! From the halls of Motown\, Stax\, to Atlantic & Northern soul. Come down and enjoy a night of top music! \nNon members £3 charge at door
URL:https://roundaboutclubsandy.co.uk/entertainment/soul-enforcement-bureau/
LOCATION:The roundabout club\, Bedford Road\, Sandy\, SG191El\, United Kingdom
END:VEVENT
BEGIN:VEVENT
DTSTART;TZID=Europe/London:20220716T213000
DTEND;TZID=Europe/London:20220717T000000
DTSTAMP:20260422T040528
CREATED:20220713T112304Z
LAST-MODIFIED:20220713T113019Z
UID:720-1658007000-1658016000@roundaboutclubsandy.co.uk
SUMMARY:Resonance
DESCRIPTION:We are delighted Resonance are with us this Saturday night! They are a 7 piece band covering something for everyone! From pop\, soul\, disco\, rock – Resonance does it all! Come down and support live and local music. \nNon members £3 charge at door
URL:https://roundaboutclubsandy.co.uk/entertainment/resonance/
LOCATION:The roundabout club\, Bedford Road\, Sandy\, SG191El\, United Kingdom
END:VEVENT
END:VCALENDAR