BEGIN:VCALENDAR
VERSION:2.0
PRODID:-//The Roundabout club - ECPv6.15.20//NONSGML v1.0//EN
CALSCALE:GREGORIAN
METHOD:PUBLISH
X-WR-CALNAME:The Roundabout club
X-ORIGINAL-URL:https://roundaboutclubsandy.co.uk
X-WR-CALDESC:Events for The Roundabout club
REFRESH-INTERVAL;VALUE=DURATION:PT1H
X-Robots-Tag:noindex
X-PUBLISHED-TTL:PT1H
BEGIN:VTIMEZONE
TZID:Europe/London
BEGIN:DAYLIGHT
TZOFFSETFROM:+0000
TZOFFSETTO:+0100
TZNAME:BST
DTSTART:20230326T010000
END:DAYLIGHT
BEGIN:STANDARD
TZOFFSETFROM:+0100
TZOFFSETTO:+0000
TZNAME:GMT
DTSTART:20231029T010000
END:STANDARD
BEGIN:DAYLIGHT
TZOFFSETFROM:+0000
TZOFFSETTO:+0100
TZNAME:BST
DTSTART:20240331T010000
END:DAYLIGHT
BEGIN:STANDARD
TZOFFSETFROM:+0100
TZOFFSETTO:+0000
TZNAME:GMT
DTSTART:20241027T010000
END:STANDARD
BEGIN:DAYLIGHT
TZOFFSETFROM:+0000
TZOFFSETTO:+0100
TZNAME:BST
DTSTART:20250330T010000
END:DAYLIGHT
BEGIN:STANDARD
TZOFFSETFROM:+0100
TZOFFSETTO:+0000
TZNAME:GMT
DTSTART:20251026T010000
END:STANDARD
END:VTIMEZONE
BEGIN:VEVENT
DTSTART;TZID=Europe/London:20240726T200000
DTEND;TZID=Europe/London:20240726T235500
DTSTAMP:20260421T040158
CREATED:20240702T184743Z
LAST-MODIFIED:20240702T185243Z
UID:2088-1722024000-1722038100@roundaboutclubsandy.co.uk
SUMMARY:Bubounce ft. World on fire
DESCRIPTION:Back to the Decades – 1 show\, 2 great bands and one small price! \nWorld on Fire and Bubounce playing you the hits from the 70s\,80s and 90s. \nWorld on Fire with there awesome mix of 80s and 90s rock and pop bangers! \nBUBOUNCE playing you all the Two tone revival bands such as Bad Manners\, Madness &The Specials and many more. \nA SHOW NOT TO BE MISSED. \n  \nWe will be selling tickets via the link at 12 plus booking. Or £15 on the door. This event will be taking place in The Victory Suite and is strictly a ticket only event. Don’t miss this huge chance to catch this epic night of music! \nUse the link found below to purchase your tickets before they sell out!
URL:https://roundaboutclubsandy.co.uk/entertainment/bubounce-ft-world-on-fire/
LOCATION:Victory Suite\, THE ROUNDABOUT CLUB BEDFORD ROAD\, SANDY\, Bedfordshire\, SG19 1EL\, United Kingdom
END:VEVENT
BEGIN:VEVENT
DTSTART;TZID=Europe/London:20240720T203000
DTEND;TZID=Europe/London:20240720T235500
DTSTAMP:20260421T040158
CREATED:20240702T184419Z
LAST-MODIFIED:20240702T184419Z
UID:2086-1721507400-1721519700@roundaboutclubsandy.co.uk
SUMMARY:Mr Rainmaker
DESCRIPTION:The boys are back in town! Mr Rainmaker a much loved crowd favourite back headlining the roundy. With their incredible talent and years of experience\, they can cover everything from rock to pop\, blues to soul and anything in between! Don’t miss out on a brilliant evening of local and live music. \nFree to members\, £4 guest sign in fee. Early admission is advised.
URL:https://roundaboutclubsandy.co.uk/entertainment/mr-rainmaker-6/
LOCATION:The roundabout club\, Bedford Road\, Sandy\, SG191El\, United Kingdom
END:VEVENT
BEGIN:VEVENT
DTSTART;TZID=Europe/London:20240719T210000
DTEND;TZID=Europe/London:20240719T235500
DTSTAMP:20260421T040158
CREATED:20240702T184128Z
LAST-MODIFIED:20240702T184128Z
UID:2084-1721422800-1721433300@roundaboutclubsandy.co.uk
SUMMARY:Club karaoke
DESCRIPTION:Resident house Dj Jingles is back with another action packed karaoke evening! Always a good night so bring your singing voices and let’s hear those karaoke classics.\nfree to members. £3 guest entry
URL:https://roundaboutclubsandy.co.uk/entertainment/club-karaoke-6/
LOCATION:The roundabout club\, Bedford Road\, Sandy\, SG191El\, United Kingdom
END:VEVENT
BEGIN:VEVENT
DTSTART;TZID=Europe/London:20240713T203000
DTEND;TZID=Europe/London:20240713T235500
DTSTAMP:20260421T040158
CREATED:20240702T183839Z
LAST-MODIFIED:20240702T183909Z
UID:2081-1720902600-1720914900@roundaboutclubsandy.co.uk
SUMMARY:The Lolli-B Band  *New for 2024*
DESCRIPTION:Brand new entertainment for 2024 as the club welcome this awesome band. The Lolli-B Band were formed to have fun adding their own touch to the kind of numbers we all remember but don’t hear too often. \nOf course\, they cover a sprinkling of ‘standards’\, but the majority of their set is those lesser-heard classics that will get you up rocking and dancing like nobody’s watching. (Think hairbrush\, tennis racket\, mirror) \nYep. We are Lolli-B\, Goosey Funk\, Blid\, Mark\, Keith-with-two-F’s and we are all about having a good time entertaining you. \nFree to members. £4 guests
URL:https://roundaboutclubsandy.co.uk/entertainment/the-lolli-b-band-new-for-2024/
LOCATION:The roundabout club\, Bedford Road\, Sandy\, SG191El\, United Kingdom
END:VEVENT
BEGIN:VEVENT
DTSTART;TZID=Europe/London:20240706T200000
DTEND;TZID=Europe/London:20240706T235500
DTSTAMP:20260421T040158
CREATED:20240702T183626Z
LAST-MODIFIED:20240702T183626Z
UID:2079-1720296000-1720310100@roundaboutclubsandy.co.uk
SUMMARY:The Digital Dance Show
DESCRIPTION:We are delighted to welcome back Glen C . The In2beats fm presenter will be headlining this Saturday night! This is going to be full of the most epic and all your favourite songs covering the dance classics it’s going to be a soulful & funky experience! Make sure you bring your dancing shoes and we can have a a right good boogie!\nFree to members. £3 guest admission
URL:https://roundaboutclubsandy.co.uk/entertainment/the-digital-dance-show/
LOCATION:The roundabout club\, Bedford Road\, Sandy\, SG191El\, United Kingdom
END:VEVENT
BEGIN:VEVENT
DTSTART;TZID=Europe/London:20240615T213000
DTEND;TZID=Europe/London:20240615T235500
DTSTAMP:20260421T040158
CREATED:20240330T135809Z
LAST-MODIFIED:20240330T135809Z
UID:2067-1718487000-1718495700@roundaboutclubsandy.co.uk
SUMMARY:Groove Connection
DESCRIPTION:The club are pleased to welcome back this fantastic 5 piece this June. Fronted by amazing female vocals and supported by 4 gifted musicians they will be covering the very best pop\,soul\, r’n’b hits as well as all the 70-80’s anthem floor fillers.\nlive on the stage 9:3opm \nFree to members. £4 guest admission
URL:https://roundaboutclubsandy.co.uk/entertainment/groove-connection-4/
LOCATION:The roundabout club\, Bedford Road\, Sandy\, SG191El\, United Kingdom
END:VEVENT
BEGIN:VEVENT
DTSTART;TZID=Europe/London:20240614T210000
DTEND;TZID=Europe/London:20240614T235500
DTSTAMP:20260421T040158
CREATED:20240330T135409Z
LAST-MODIFIED:20240330T135409Z
UID:2065-1718398800-1718409300@roundaboutclubsandy.co.uk
SUMMARY:Club Karaoke
DESCRIPTION:Club karaoke with resident Dj jingles. It’s always a great club night full of fun and some brilliant renditions of some classic songs.
URL:https://roundaboutclubsandy.co.uk/entertainment/club-karaoke-5/
LOCATION:The roundabout club\, Bedford Road\, Sandy\, SG191El\, United Kingdom
END:VEVENT
BEGIN:VEVENT
DTSTART;TZID=Europe/London:20240608T213000
DTEND;TZID=Europe/London:20240608T235500
DTSTAMP:20260421T040158
CREATED:20240330T135131Z
LAST-MODIFIED:20240330T135216Z
UID:2060-1717882200-1717890900@roundaboutclubsandy.co.uk
SUMMARY:The Pride *new for 2024*
DESCRIPTION:Delighted to welcome The Pride to the club for 2024! \nThis 9 piece authentic reggae and ska band will have you up on the dance floor with all the classics from the best genres of music. Come down and give them the roundy welcome. please note we are expecting high volumes of visitors to the club so early admission is advised. \nlive on the stage 9:30pm \nFree to members. £4 guest admission
URL:https://roundaboutclubsandy.co.uk/entertainment/the-pride/
LOCATION:The roundabout club\, Bedford Road\, Sandy\, SG191El\, United Kingdom
END:VEVENT
BEGIN:VEVENT
DTSTART;TZID=Europe/London:20240607T190000
DTEND;TZID=Europe/London:20240607T230000
DTSTAMP:20260421T040158
CREATED:20240330T134549Z
LAST-MODIFIED:20240330T134549Z
UID:2057-1717786800-1717801200@roundaboutclubsandy.co.uk
SUMMARY:Drag Bingo Evolution
DESCRIPTION:The UK’s most exciting drag bingo show\, Drag Bingo Evolution\, returns to The Roundy this June!! \nJoin us for a truly unique evening of drag bingo and a chance to win some brilliant and bizarre prizes. Tickets include entry and all six bingo games. \nFeaturing \n‣ The UK’s very best drag queens \n‣ Six games of bingo \n‣ Outrageous games \n‣ Crazy prizes and cash jackpots! \n\nDoors open at 6:30pm. Balls start dropping at 7:30pm. \nAre you ready for the ULTIMATE DRAG BINGO EXPERIENCE!? \nThis event is taking place in the victory suite and tickets are being sold through; dragbingoevolution.com \n18+
URL:https://roundaboutclubsandy.co.uk/entertainment/drag-bingo-evolution/
LOCATION:Victory Suite\, THE ROUNDABOUT CLUB BEDFORD ROAD\, SANDY\, Bedfordshire\, SG19 1EL\, United Kingdom
END:VEVENT
BEGIN:VEVENT
DTSTART;TZID=Europe/London:20240601T200000
DTEND;TZID=Europe/London:20240601T235500
DTSTAMP:20260421T040158
CREATED:20240330T134143Z
LAST-MODIFIED:20240330T134143Z
UID:2055-1717272000-1717286100@roundaboutclubsandy.co.uk
SUMMARY:Glenn Cooper Dance Anthem Show
DESCRIPTION:A club first as we welcome Glenn and his dance anthem show to the roundy! Covering the very best anthems all through the decades it’s going to be lively. A perfect night to hit the dance floor and let the music take you away. It’s going to be a late one\nlive on the stage 8:00pm \nFree to members. £4 guest admission
URL:https://roundaboutclubsandy.co.uk/entertainment/glenn-cooper-dance-anthem-show/
LOCATION:The roundabout club\, Bedford Road\, Sandy\, SG191El\, United Kingdom
END:VEVENT
BEGIN:VEVENT
DTSTART;TZID=Europe/London:20240531T190000
DTEND;TZID=Europe/London:20240531T233000
DTSTAMP:20260421T040158
CREATED:20240330T133902Z
LAST-MODIFIED:20240330T133902Z
UID:2053-1717182000-1717198200@roundaboutclubsandy.co.uk
SUMMARY:Castle Comedy
DESCRIPTION:Castle comedy are back! A fantastic night of live comedy ft the very best comedians on the circuit. Exclusive to us here in Sandy! This event will take place in the victory suite\, ticket details will be released soon.
URL:https://roundaboutclubsandy.co.uk/entertainment/castle-comedy/
LOCATION:Victory Suite\, THE ROUNDABOUT CLUB BEDFORD ROAD\, SANDY\, Bedfordshire\, SG19 1EL\, United Kingdom
END:VEVENT
BEGIN:VEVENT
DTSTART;TZID=Europe/London:20240525T213000
DTEND;TZID=Europe/London:20240525T235500
DTSTAMP:20260421T040158
CREATED:20240330T133506Z
LAST-MODIFIED:20240330T133506Z
UID:2051-1716672600-1716681300@roundaboutclubsandy.co.uk
SUMMARY:Delorean
DESCRIPTION:DeLorean back at the club for 2024!! \nRocking a blistering 2 hour set combining all of your favourites from the greatest periods of Rock History and giving you a night to remember! Delighted to have these lads back here at RC come down and catch them live. \nLive on the stage 9:30pm \nFree to members. £4 guest admission
URL:https://roundaboutclubsandy.co.uk/entertainment/delorean/
LOCATION:The roundabout club\, Bedford Road\, Sandy\, SG191El\, United Kingdom
END:VEVENT
BEGIN:VEVENT
DTSTART;TZID=Europe/London:20240518T213000
DTEND;TZID=Europe/London:20240518T235500
DTSTAMP:20260421T040158
CREATED:20240330T133103Z
LAST-MODIFIED:20240330T133103Z
UID:2049-1716067800-1716076500@roundaboutclubsandy.co.uk
SUMMARY:The Revivals *New for 2024*
DESCRIPTION:The Roundy are delighted to welcome The Revivals for 2024! Playing a set that spans the decades from the 60’s through to the Noughties – everything from The Beatles to Blondie to Blur with a lot of soul/Motown classics thrown in too. Come down and give the guys the roundy welcome.\nlive on the stage 9:3opm \nFree to members. £4 guest admission
URL:https://roundaboutclubsandy.co.uk/entertainment/the-revivals-new-for-2024/
LOCATION:The roundabout club\, Bedford Road\, Sandy\, SG191El\, United Kingdom
END:VEVENT
BEGIN:VEVENT
DTSTART;TZID=Europe/London:20240517T213000
DTEND;TZID=Europe/London:20240517T235500
DTSTAMP:20260421T040158
CREATED:20240330T132632Z
LAST-MODIFIED:20240330T132632Z
UID:2045-1715981400-1715990100@roundaboutclubsandy.co.uk
SUMMARY:Kev Hall & Friends
DESCRIPTION:Kev Hall is back at the Roundy with a night of exclusive music! An evening of acoustic vibes ft some of the very best musicians around. Local and live music right here this Friday night. \nlive on the stage 9.30pm \nFree to members. £4 guest admission.
URL:https://roundaboutclubsandy.co.uk/entertainment/kev-hall-friends-4/
LOCATION:The roundabout club\, Bedford Road\, Sandy\, SG191El\, United Kingdom
END:VEVENT
BEGIN:VEVENT
DTSTART;TZID=Europe/London:20240511T213000
DTEND;TZID=Europe/London:20240511T235500
DTSTAMP:20260421T040158
CREATED:20240330T132046Z
LAST-MODIFIED:20240330T132046Z
UID:2043-1715463000-1715471700@roundaboutclubsandy.co.uk
SUMMARY:Blitzed Kidz
DESCRIPTION:Join us as the club welcome 2 very familiar faces in Gary Brown & Tim London this may! 1980’s synth pop duo covering the likes of Tears For Fears\, Simple Minds\, Spandau Ballet\, Duran Duran and many more. \nlive on the stage 9:30pm\nFree to members. £4 guest admission
URL:https://roundaboutclubsandy.co.uk/entertainment/blitzed-kidz-3/
LOCATION:The roundabout club\, Bedford Road\, Sandy\, SG191El\, United Kingdom
END:VEVENT
BEGIN:VEVENT
DTSTART;TZID=Europe/London:20240503T213000
DTEND;TZID=Europe/London:20240503T235500
DTSTAMP:20260421T040158
CREATED:20240330T131310Z
LAST-MODIFIED:20240330T131310Z
UID:2041-1714771800-1714780500@roundaboutclubsandy.co.uk
SUMMARY:Jason & The Skagonauts
DESCRIPTION:A bank holiday special. Jason & The Skagonauts return to the Roundy. A 7 piece band playing ska’ed up versions of songs that aren’t ska! High energy\, great fun on what should be s fantastic evening of entertainment! The perfect start to the bank holiday weekend.\nLive on the stage 9:30pm\nFree to members. £4 guest admission
URL:https://roundaboutclubsandy.co.uk/entertainment/jason-the-skagonauts-2/
LOCATION:The roundabout club\, Bedford Road\, Sandy\, SG191El\, United Kingdom
END:VEVENT
BEGIN:VEVENT
DTSTART;TZID=Europe/London:20240427T213000
DTEND;TZID=Europe/London:20240427T235500
DTSTAMP:20260421T040158
CREATED:20240329T001747Z
LAST-MODIFIED:20240329T001747Z
UID:2036-1714253400-1714262100@roundaboutclubsandy.co.uk
SUMMARY:The Desert Penguins
DESCRIPTION:We are delighted to welcome back The Desert Penguins after smashing their Roundy debut last year. An established pop gone rock band! Yes you read that right! A modern rock covers band playing all your favourite pop & rock songs. A high energy\, high calibre covers band bringing you huge sounding music. Come down make some noise and enjoy local and live music. \nLive on the stage 9:30pm\nFree to members. £4 guest admission \n 
URL:https://roundaboutclubsandy.co.uk/entertainment/the-desert-penguins-2/
LOCATION:The roundabout club\, Bedford Road\, Sandy\, SG191El\, United Kingdom
END:VEVENT
BEGIN:VEVENT
DTSTART;TZID=Europe/London:20240426T213000
DTEND;TZID=Europe/London:20240426T235500
DTSTAMP:20260421T040158
CREATED:20240329T001439Z
LAST-MODIFIED:20240329T001439Z
UID:2034-1714167000-1714175700@roundaboutclubsandy.co.uk
SUMMARY:Wholly Soul Ft Uche Eke & The SoulMan
DESCRIPTION:The Soul Man and Uche Eke are teaming up as the duo\, Wholly Soul. Bringing an evening packed full of all the greatest soul songs this is one not to be missed! \nThis event will take place in our victory suite and is expected to be a sell out! Spaces are strictly on a first come first serve basis\, all information can be found on the clubs social pages. \nLive on the stage 9:30pm\nFree to members. £5 guest admission
URL:https://roundaboutclubsandy.co.uk/entertainment/wholly-soul-ft-uche-eke-the-soulman/
LOCATION:Victory Suite\, THE ROUNDABOUT CLUB BEDFORD ROAD\, SANDY\, Bedfordshire\, SG19 1EL\, United Kingdom
END:VEVENT
BEGIN:VEVENT
DTSTART;TZID=Europe/London:20240420T213000
DTEND;TZID=Europe/London:20240420T235500
DTSTAMP:20260421T040158
CREATED:20240329T001006Z
LAST-MODIFIED:20240329T001035Z
UID:2031-1713648600-1713657300@roundaboutclubsandy.co.uk
SUMMARY:Back To The 50’s *New for 2024*
DESCRIPTION:The club are delighted to welcome B.T.T.50s for 2024! \nA Hertford based High Octane Tribute to the 1950s with a nod towards film Back To The Future. \nFormed in 2018 their Mission to Bring 1950’s ROCK&ROLL to the modern day with a 3 piece power trio that will get you TWISTING & Surfing THE NIGHT AWAY! Come down and give the lads the roundy welcome should be a cracker! \nlive on the stage 9:30pm\nFree to members. £4 guest admission \n 
URL:https://roundaboutclubsandy.co.uk/entertainment/back-to-the-50s-new-for-2024/
LOCATION:The roundabout club\, Bedford Road\, Sandy\, SG191El\, United Kingdom
END:VEVENT
BEGIN:VEVENT
DTSTART;TZID=Europe/London:20240413T213000
DTEND;TZID=Europe/London:20240413T235500
DTSTAMP:20260421T040158
CREATED:20240329T000653Z
LAST-MODIFIED:20240329T000653Z
UID:2029-1713043800-1713052500@roundaboutclubsandy.co.uk
SUMMARY:‘Waterloo’ - ABBA Tribute
DESCRIPTION:We are delighted to welcome back this amazing tribute duo to Abba! Outstanding lead vocals from Danni & Amy in a brilliantly put together set this really is one night you don’t want to miss. \nLive on the stage 9:30pm.\nFree to members. £4 guest admission
URL:https://roundaboutclubsandy.co.uk/entertainment/waterloo-abba-tribute/
LOCATION:The roundabout club\, Bedford Road\, Sandy\, SG191El\, United Kingdom
END:VEVENT
BEGIN:VEVENT
DTSTART;TZID=Europe/London:20240412T210000
DTEND;TZID=Europe/London:20240412T235500
DTSTAMP:20260421T040158
CREATED:20240329T000346Z
LAST-MODIFIED:20240329T000346Z
UID:2027-1712955600-1712966100@roundaboutclubsandy.co.uk
SUMMARY:Club Karaoke
DESCRIPTION:Club karaoke for April! Headlined by resident house Dj Jjngles. Always a fantastic evening of entertainment
URL:https://roundaboutclubsandy.co.uk/entertainment/club-karaoke-4/
LOCATION:The roundabout club\, Bedford Road\, Sandy\, SG191El\, United Kingdom
END:VEVENT
BEGIN:VEVENT
DTSTART;TZID=Europe/London:20240406T213000
DTEND;TZID=Europe/London:20240407T000000
DTSTAMP:20260421T040158
CREATED:20240124T185114Z
LAST-MODIFIED:20240330T132734Z
UID:2024-1712439000-1712448000@roundaboutclubsandy.co.uk
SUMMARY:Popscene
DESCRIPTION:BRITPOP & INDIE covers band\, playing all the great British sounds… \nFrom Arctic Monkeys\, Blur\, Kaiser Chiefs and Cast\, to Stereophonics\, Stone Roses and Paul Weller\, by way of Ocean Colour Scene\, Oasis\, Pulp and Supergrass… And everything else in between! Always a great night with these guys\, grab your Fred Perry’s and hit the dance floor. \nFree to members. Guest sign in £4
URL:https://roundaboutclubsandy.co.uk/entertainment/popscene-4/
LOCATION:The roundabout club\, Bedford Road\, Sandy\, SG191El\, United Kingdom
END:VEVENT
BEGIN:VEVENT
DTSTART;TZID=Europe/London:20240405T213000
DTEND;TZID=Europe/London:20240406T000000
DTSTAMP:20260421T040158
CREATED:20240124T184846Z
LAST-MODIFIED:20240330T132711Z
UID:2022-1712352600-1712361600@roundaboutclubsandy.co.uk
SUMMARY:Blacksmith
DESCRIPTION:The club are thrilled to welcome back the supergroup Blacksmith for 2024! F.T The legendary Podge as lead. He is known for being the best AC/DC tribute singer in the Uk. Playing everything classic rock it’s an evening not to be missed. \nFree to members. Guest sign in £4
URL:https://roundaboutclubsandy.co.uk/entertainment/blacksmith-5/
LOCATION:The roundabout club\, Bedford Road\, Sandy\, SG191El\, United Kingdom
END:VEVENT
BEGIN:VEVENT
DTSTART;TZID=Europe/London:20240330T213000
DTEND;TZID=Europe/London:20240331T000000
DTSTAMP:20260421T040158
CREATED:20240124T184643Z
LAST-MODIFIED:20240124T184643Z
UID:2020-1711834200-1711843200@roundaboutclubsandy.co.uk
SUMMARY:Free State Revolution *New for 2024*
DESCRIPTION:Delighted to welcome Free State Revolution to the club for 2024! Covering all the classics from rock to pop this 4 piece will get you dancing the night away. Come down and give the lads the roundy welcome. Should be a blast! \nFree to members. Guest sign in £3
URL:https://roundaboutclubsandy.co.uk/entertainment/free-state-revolution-new-for-2024/
LOCATION:The roundabout club\, Bedford Road\, Sandy\, SG191El\, United Kingdom
END:VEVENT
BEGIN:VEVENT
DTSTART;TZID=Europe/London:20240329T200000
DTEND;TZID=Europe/London:20240330T000000
DTSTAMP:20260421T040158
CREATED:20240124T184428Z
LAST-MODIFIED:20240124T184428Z
UID:2018-1711742400-1711756800@roundaboutclubsandy.co.uk
SUMMARY:Club Karaoke
DESCRIPTION:Club karaoke ft Resident Dj Jjngles. You know the drill! Bring your singing voices it’s always a good one. \nFree to members. Guest sign in £3
URL:https://roundaboutclubsandy.co.uk/entertainment/club-karaoke-3/
LOCATION:The roundabout club\, Bedford Road\, Sandy\, SG191El\, United Kingdom
END:VEVENT
BEGIN:VEVENT
DTSTART;TZID=Europe/London:20240316T213000
DTEND;TZID=Europe/London:20240317T000000
DTSTAMP:20260421T040158
CREATED:20240124T184308Z
LAST-MODIFIED:20240124T184308Z
UID:2016-1710624600-1710633600@roundaboutclubsandy.co.uk
SUMMARY:Funk Odyssey
DESCRIPTION:First gig of 2024 for Funk Odyssey at The Roundy! A 5 piece soul funk and disco band. Consisting of an exceptional lead female vocalists & one of the tightest rhythm sections around\, pop your dancing shoes on & enjoy a brilliant evening of music. \nFree to members. Guest sign in £3
URL:https://roundaboutclubsandy.co.uk/entertainment/funk-odyssey-3/
LOCATION:The roundabout club\, Bedford Road\, Sandy\, SG191El\, United Kingdom
END:VEVENT
BEGIN:VEVENT
DTSTART;TZID=Europe/London:20240308T213000
DTEND;TZID=Europe/London:20240309T000000
DTSTAMP:20260421T040158
CREATED:20240124T184119Z
LAST-MODIFIED:20240124T184119Z
UID:2014-1709933400-1709942400@roundaboutclubsandy.co.uk
SUMMARY:The Polaroidz
DESCRIPTION:A night of Alternative Hits from 1979 – 1985… a mix of Indie/Synth-Pop/New Wave/Post-Punk and more… covering all the best artists and big hits from that awesome era of music. 4 fantastic musicians creating some very special music live this Friday night. \nFree to members. Guest sign in £3 \n 
URL:https://roundaboutclubsandy.co.uk/entertainment/the-polaroidz-3/
LOCATION:The roundabout club\, Bedford Road\, Sandy\, SG191El\, United Kingdom
END:VEVENT
BEGIN:VEVENT
DTSTART;TZID=Europe/London:20240302T213000
DTEND;TZID=Europe/London:20240303T000000
DTSTAMP:20260421T040158
CREATED:20240124T183800Z
LAST-MODIFIED:20240124T183800Z
UID:2012-1709415000-1709424000@roundaboutclubsandy.co.uk
SUMMARY:Mr Rainmaker
DESCRIPTION:A huge crowd favourite make their first appearance of 2024. These guys really know how to put on a great gig! A versatile\, experienced 4 piece band covering rock\, pop\, to blues and soul. Arrive early to guarantee the best seats in the house\, you don’t want to miss it! \nFree to members. Guest sign in £3
URL:https://roundaboutclubsandy.co.uk/entertainment/mr-rainmaker-5/
LOCATION:The roundabout club\, Bedford Road\, Sandy\, SG191El\, United Kingdom
END:VEVENT
BEGIN:VEVENT
DTSTART;TZID=Europe/London:20240224T213000
DTEND;TZID=Europe/London:20240225T000000
DTSTAMP:20260421T040158
CREATED:20240124T183428Z
LAST-MODIFIED:20240124T183428Z
UID:2010-1708810200-1708819200@roundaboutclubsandy.co.uk
SUMMARY:Max Headroom
DESCRIPTION:All new line up for the Indie rock legends\, same great evening of entertainment! Come and rock with the lads this February you definitely don’t want to miss this one. \nFree to members. Guest sign in £3
URL:https://roundaboutclubsandy.co.uk/entertainment/max-headroom-5/
LOCATION:The roundabout club\, Bedford Road\, Sandy\, SG191El\, United Kingdom
END:VEVENT
BEGIN:VEVENT
DTSTART;TZID=Europe/London:20240223T213000
DTEND;TZID=Europe/London:20240224T000000
DTSTAMP:20260421T040158
CREATED:20240124T183254Z
LAST-MODIFIED:20240124T183254Z
UID:2008-1708723800-1708732800@roundaboutclubsandy.co.uk
SUMMARY:Gayle Fraser
DESCRIPTION:Gayle Fraser makes a welcome return to us at the Roundy this February. A brilliant solo singer covering a huge range of all your favourites\, it’s the perfect pay day weekend treat. \nFree to members. Guest sign in £3
URL:https://roundaboutclubsandy.co.uk/entertainment/gayle-fraser/
LOCATION:The roundabout club\, Bedford Road\, Sandy\, SG191El\, United Kingdom
END:VEVENT
END:VCALENDAR