BEGIN:VCALENDAR
VERSION:2.0
PRODID:-//The Roundabout club - ECPv6.15.20//NONSGML v1.0//EN
CALSCALE:GREGORIAN
METHOD:PUBLISH
X-WR-CALNAME:The Roundabout club
X-ORIGINAL-URL:https://roundaboutclubsandy.co.uk
X-WR-CALDESC:Events for The Roundabout club
REFRESH-INTERVAL;VALUE=DURATION:PT1H
X-Robots-Tag:noindex
X-PUBLISHED-TTL:PT1H
BEGIN:VTIMEZONE
TZID:Europe/London
BEGIN:DAYLIGHT
TZOFFSETFROM:+0000
TZOFFSETTO:+0100
TZNAME:BST
DTSTART:20220327T010000
END:DAYLIGHT
BEGIN:STANDARD
TZOFFSETFROM:+0100
TZOFFSETTO:+0000
TZNAME:GMT
DTSTART:20221030T010000
END:STANDARD
BEGIN:DAYLIGHT
TZOFFSETFROM:+0000
TZOFFSETTO:+0100
TZNAME:BST
DTSTART:20230326T010000
END:DAYLIGHT
BEGIN:STANDARD
TZOFFSETFROM:+0100
TZOFFSETTO:+0000
TZNAME:GMT
DTSTART:20231029T010000
END:STANDARD
BEGIN:DAYLIGHT
TZOFFSETFROM:+0000
TZOFFSETTO:+0100
TZNAME:BST
DTSTART:20240331T010000
END:DAYLIGHT
BEGIN:STANDARD
TZOFFSETFROM:+0100
TZOFFSETTO:+0000
TZNAME:GMT
DTSTART:20241027T010000
END:STANDARD
END:VTIMEZONE
BEGIN:VEVENT
DTSTART;TZID=Europe/London:20230715T213000
DTEND;TZID=Europe/London:20230716T000000
DTSTAMP:20260422T032757
CREATED:20230510T204434Z
LAST-MODIFIED:20230510T204434Z
UID:1860-1689456600-1689465600@roundaboutclubsandy.co.uk
SUMMARY:The Soul Sisters
DESCRIPTION:We are delighted to welcome back The Soul sisters for 2023! The ultimate female vocal duo. Playing classic soul\, Motown and latest pop tunes! Both are no strangers to the club and we’re delighted they are back to put on another amazing show. Guests £3
URL:https://roundaboutclubsandy.co.uk/entertainment/the-soul-sisters/
LOCATION:The roundabout club\, Bedford Road\, Sandy\, SG191El\, United Kingdom
END:VEVENT
BEGIN:VEVENT
DTSTART;VALUE=DATE:20230708
DTEND;VALUE=DATE:20230709
DTSTAMP:20260422T032757
CREATED:20230510T204224Z
LAST-MODIFIED:20230626T172241Z
UID:1858-1688774400-1688860799@roundaboutclubsandy.co.uk
SUMMARY:Queenergy- Victory suite event
DESCRIPTION:The UK’s premier tribute band to one of the most iconic bands of all time\, Queen! Bringing their ‘Bohemian tour’ to The Roundy! This is your last chance to catch them here in Sandy this year! Tickets are on sale strictly through the bands website. No tickets will be sold for this event through the club. 
URL:https://roundaboutclubsandy.co.uk/entertainment/queenergy-victory-suite-event/
LOCATION:Victory Suite\, THE ROUNDABOUT CLUB BEDFORD ROAD\, SANDY\, Bedfordshire\, SG19 1EL\, United Kingdom
END:VEVENT
BEGIN:VEVENT
DTSTART;TZID=Europe/London:20230707T210000
DTEND;TZID=Europe/London:20230708T000000
DTSTAMP:20260422T032757
CREATED:20230701T154746Z
LAST-MODIFIED:20230702T104400Z
UID:1894-1688763600-1688774400@roundaboutclubsandy.co.uk
SUMMARY:DJ Jingles karaoke
DESCRIPTION:The Club are delighted our house Dj Jingles is bringing the ever popular karaoke back! Bring your singing voices and enjoy a brilliant evening of entertainment with some top class talent
URL:https://roundaboutclubsandy.co.uk/entertainment/dj-jingles-karaoke-2/
LOCATION:The roundabout club\, Bedford Road\, Sandy\, SG191El\, United Kingdom
END:VEVENT
BEGIN:VEVENT
DTSTART;TZID=Europe/London:20230701T213000
DTEND;TZID=Europe/London:20230702T000000
DTSTAMP:20260422T032757
CREATED:20230510T203726Z
LAST-MODIFIED:20230510T203726Z
UID:1856-1688247000-1688256000@roundaboutclubsandy.co.uk
SUMMARY:Memphis Train
DESCRIPTION:Back at the club for 2023 for a second time this year we welcome the return of Memphis Train! Covering a wide range of funk\, soul\, disco and reggae they will be sure to get up on the dance floor. Guests £3
URL:https://roundaboutclubsandy.co.uk/entertainment/memphis-train-2/
LOCATION:The roundabout club\, Bedford Road\, Sandy\, SG191El\, United Kingdom
END:VEVENT
BEGIN:VEVENT
DTSTART;TZID=Europe/London:20230630T213000
DTEND;TZID=Europe/London:20230701T000000
DTSTAMP:20260422T032757
CREATED:20230510T203052Z
LAST-MODIFIED:20230510T203052Z
UID:1854-1688160600-1688169600@roundaboutclubsandy.co.uk
SUMMARY:The Atomics
DESCRIPTION:Brand new entertainment for 2023! The club are thrilled to welcome The Atomics. Bringing a top night of all your favourite retro new wave tunes including songs by Blondie\, The Cars\, Adam & The Ants\, Squeeze\, Bowie and many more! Come down and experience local and live music and give them the Roundy welcome! Guests. £3 
URL:https://roundaboutclubsandy.co.uk/entertainment/the-atomics/
LOCATION:The roundabout club\, Bedford Road\, Sandy\, SG191El\, United Kingdom
END:VEVENT
BEGIN:VEVENT
DTSTART;TZID=Europe/London:20230624T213000
DTEND;TZID=Europe/London:20230625T000000
DTSTAMP:20260422T032757
CREATED:20230510T202937Z
LAST-MODIFIED:20230510T202937Z
UID:1852-1687642200-1687651200@roundaboutclubsandy.co.uk
SUMMARY:Uche Eke - SOUL WEEKEND
DESCRIPTION:We are thrilled to welcome Uche back to The Roundy to headline our Saturday soul evening! He has previously dazzled crowds here at the club and with his fantastic set it’s bound to be another pure quality night of entertainment! 
URL:https://roundaboutclubsandy.co.uk/entertainment/uche-eke-soul-weekend-2/
LOCATION:The roundabout club\, Bedford Road\, Sandy\, SG191El\, United Kingdom
END:VEVENT
BEGIN:VEVENT
DTSTART;TZID=Europe/London:20230623T213000
DTEND;TZID=Europe/London:20230624T000000
DTSTAMP:20260422T032757
CREATED:20230510T202824Z
LAST-MODIFIED:20230510T202824Z
UID:1849-1687555800-1687564800@roundaboutclubsandy.co.uk
SUMMARY:Lia Gray - SOUL WEEKEND
DESCRIPTION:What a way to kick off our Roundy Soul weekender with the super talented Lia Gray! Since making her Sandy debut here at the club\, Lia has become a crowd is favourite and we are delighted to welcome her back to The Roundy! Covering everything from soul\, MoTown classics to funk\, r‘n’b & pop Lia will have you up on the dance floor from the very first song! 
URL:https://roundaboutclubsandy.co.uk/entertainment/lia-gray-soul-weekend-2/
LOCATION:The roundabout club\, Bedford Road\, Sandy\, SG191El\, United Kingdom
END:VEVENT
BEGIN:VEVENT
DTSTART;TZID=Europe/London:20230617T213000
DTEND;TZID=Europe/London:20230618T000000
DTSTAMP:20260422T032757
CREATED:20230510T202655Z
LAST-MODIFIED:20230510T202655Z
UID:1847-1687037400-1687046400@roundaboutclubsandy.co.uk
SUMMARY:Resonance
DESCRIPTION:We are delighted to welcome Resonance back to the club. Playing covers from pop\, soul\, rock and disco they cover it all! With strong musicians and harmonies it has all the ingredients to be an amazing evening! Guests £3
URL:https://roundaboutclubsandy.co.uk/entertainment/resonance-2/
LOCATION:The roundabout club\, Bedford Road\, Sandy\, SG191El\, United Kingdom
END:VEVENT
BEGIN:VEVENT
DTSTART;TZID=Europe/London:20230616T210000
DTEND;TZID=Europe/London:20230617T000000
DTSTAMP:20260422T032757
CREATED:20230510T202048Z
LAST-MODIFIED:20230510T202048Z
UID:1845-1686949200-1686960000@roundaboutclubsandy.co.uk
SUMMARY:The JamBusters
DESCRIPTION:A roundabout Club Exclusive! The release of a brand new band that will be touring in 2024! Ft 2 familiar faces from the awesome band ‘Back to the 80’s fronted by fantastic female vocals this is a real exclusive and a night you don’t want to miss! Covering a wide range of songs and artists through the decades we can’t wait to welcome The Jam Busters! Guests £3 
URL:https://roundaboutclubsandy.co.uk/entertainment/the-jambusters/
LOCATION:The roundabout club\, Bedford Road\, Sandy\, SG191El\, United Kingdom
END:VEVENT
BEGIN:VEVENT
DTSTART;TZID=Europe/London:20230609T213000
DTEND;TZID=Europe/London:20230610T000000
DTSTAMP:20260422T032757
CREATED:20230501T153706Z
LAST-MODIFIED:20230501T153706Z
UID:1813-1686346200-1686355200@roundaboutclubsandy.co.uk
SUMMARY:Jam 69
DESCRIPTION:Jam 69 are back at the Roundy! A band dedicated to delivering the best live experience to all fans of The Jam\, Punk\, New Wave and Ska! Covering tunes by The Jam\, Buzzcocks\, The Undertones\, The Who\, The Clash\, The Stranglers\, The Specials\, Madness\, Stiff Little Fingers\, The Sex Pistols\, and many more! Guests £3
URL:https://roundaboutclubsandy.co.uk/entertainment/jam-69-2/
LOCATION:The roundabout club\, Bedford Road\, Sandy\, SG191El\, United Kingdom
END:VEVENT
BEGIN:VEVENT
DTSTART;TZID=Europe/London:20230603T213000
DTEND;TZID=Europe/London:20230604T000000
DTSTAMP:20260422T032757
CREATED:20230501T153606Z
LAST-MODIFIED:20230501T153606Z
UID:1811-1685827800-1685836800@roundaboutclubsandy.co.uk
SUMMARY:Max Headroom
DESCRIPTION:The Indie Rock specialists are back! The trio from Ely is a high energy rock band playing everything from 60’s rock/pop to 90’s Indie rock. If you’ve not seen them before\, come down and experience a great band! Guests £3
URL:https://roundaboutclubsandy.co.uk/entertainment/max-headroom-3/
LOCATION:The roundabout club\, Bedford Road\, Sandy\, SG191El\, United Kingdom
END:VEVENT
BEGIN:VEVENT
DTSTART;TZID=Europe/London:20230602T210000
DTEND;TZID=Europe/London:20230603T000000
DTSTAMP:20260422T032757
CREATED:20230509T200400Z
LAST-MODIFIED:20230509T200400Z
UID:1834-1685739600-1685750400@roundaboutclubsandy.co.uk
SUMMARY:Melissa Baker
DESCRIPTION:Making her Rc debut the super talented Melissa Baker! A professional singer songwriter from Hertfordshire. Covering such versatility on many levels from hip newcoming Rock/pop to house/ dance and so much more!\nShe has also toured the Uk with ‘Stardust’ a musical flashback\, a show compelled of memorable musical dance numbers\, dance and comedy. Come down and give her the RC welcome. £3 guests
URL:https://roundaboutclubsandy.co.uk/entertainment/melissa-baker/
LOCATION:The roundabout club\, Bedford Road\, Sandy\, SG191El\, United Kingdom
END:VEVENT
BEGIN:VEVENT
DTSTART;TZID=Europe/London:20230527T213000
DTEND;TZID=Europe/London:20230528T000000
DTSTAMP:20260422T032757
CREATED:20230501T153140Z
LAST-MODIFIED:20230501T153140Z
UID:1809-1685223000-1685232000@roundaboutclubsandy.co.uk
SUMMARY:Dj Jingles Themed Night!
DESCRIPTION:All details will soon be released. Guests £3
URL:https://roundaboutclubsandy.co.uk/entertainment/dj-jingles-themed-night/
LOCATION:The roundabout club\, Bedford Road\, Sandy\, SG191El\, United Kingdom
END:VEVENT
BEGIN:VEVENT
DTSTART;TZID=Europe/London:20230526T213000
DTEND;TZID=Europe/London:20230527T000000
DTSTAMP:20260422T032757
CREATED:20230501T153044Z
LAST-MODIFIED:20230501T153044Z
UID:1807-1685136600-1685145600@roundaboutclubsandy.co.uk
SUMMARY:Blacksmith
DESCRIPTION:We are thrilled to announce the supergroup Blacksmith are live this Friday night! F.T The legendary Podge as lead. Known for being one of the best AC/DC tribute singer in the Uk. Covering everything classic rock! This is One not to miss. Live from 9:30pm.non members £3
URL:https://roundaboutclubsandy.co.uk/entertainment/blacksmith-3/
LOCATION:The roundabout club\, Bedford Road\, Sandy\, SG191El\, United Kingdom
END:VEVENT
BEGIN:VEVENT
DTSTART;TZID=Europe/London:20230520T213000
DTEND;TZID=Europe/London:20230521T000000
DTSTAMP:20260422T032757
CREATED:20230501T152853Z
LAST-MODIFIED:20230501T152853Z
UID:1805-1684618200-1684627200@roundaboutclubsandy.co.uk
SUMMARY:Soul Chain Band
DESCRIPTION:Soul fever is in town! We are thrilled to welcome this exciting Hertfordshire based female vox fronted 5 piece band to the club. Covering all the feel good soul favourites\, funk and disco classics they are bound to get you up on the dance floor. Come down and enjoy this feel good factor band here at the club. Guests £3
URL:https://roundaboutclubsandy.co.uk/entertainment/soul-chain-band/
LOCATION:The roundabout club\, Bedford Road\, Sandy\, SG191El\, United Kingdom
END:VEVENT
BEGIN:VEVENT
DTSTART;TZID=Europe/London:20230519T213000
DTEND;TZID=Europe/London:20230520T000000
DTSTAMP:20260422T032757
CREATED:20230501T152714Z
LAST-MODIFIED:20230501T152714Z
UID:1803-1684531800-1684540800@roundaboutclubsandy.co.uk
SUMMARY:Dr Ska
DESCRIPTION:New to the Roundy for this year’s entertainment calendar we welcome Dr Ska with the ska\, reggae\, Trojan\, rocksteady soul & 2 Tone disco roadshow.\nTHIS IS SKA. Guests £3
URL:https://roundaboutclubsandy.co.uk/entertainment/dr-ska/
LOCATION:The roundabout club\, Bedford Road\, Sandy\, SG191El\, United Kingdom
END:VEVENT
BEGIN:VEVENT
DTSTART;TZID=Europe/London:20230513T203000
DTEND;TZID=Europe/London:20230513T233000
DTSTAMP:20260422T032757
CREATED:20230416T202744Z
LAST-MODIFIED:20230512T215411Z
UID:1760-1684009800-1684020600@roundaboutclubsandy.co.uk
SUMMARY:'A Night Of Take That’
DESCRIPTION:Update-  \nTickets still available behind the bar and at the door \nDoors open at 8pm \nShow starts 9-30-10-15 & 10-45-11-30 \n  \nThe Roundabout Club in association with The Victory Suite is delighted to present one of the very best take that tribute bands around! \n‘A Night Of Take That brings to you an outstanding act that perfectly captures the sound and performance of the real take that.’ Performed by a collective of the finest singers who have appeared in London’s very biggest West End shows and a huge variety of high profile performing engagements! You don’t want to miss this one. \n*Tickets are also available for purchase from the bar
URL:https://roundaboutclubsandy.co.uk/entertainment/a-night-of-take-that/
LOCATION:Victory Suite\, THE ROUNDABOUT CLUB BEDFORD ROAD\, SANDY\, Bedfordshire\, SG19 1EL\, United Kingdom
END:VEVENT
BEGIN:VEVENT
DTSTART;TZID=Europe/London:20230512T213000
DTEND;TZID=Europe/London:20230513T000000
DTSTAMP:20260422T032757
CREATED:20230501T152624Z
LAST-MODIFIED:20230501T152624Z
UID:1801-1683927000-1683936000@roundaboutclubsandy.co.uk
SUMMARY:Kev Hall & Friends
DESCRIPTION:Back by popular demand for 2023! Something a little different for your Friday night\, an informal singalong with Kev & friends including lots of participation! You can expect great vocals\, unique keyboard skills & awesome percussion and maybe a special guest or 2! Come down and enjoy a great evening of live lounge music. 9:30pm guests £3
URL:https://roundaboutclubsandy.co.uk/entertainment/kev-hall-friends-2/
LOCATION:The roundabout club\, Bedford Road\, Sandy\, SG191El\, United Kingdom
END:VEVENT
BEGIN:VEVENT
DTSTART;TZID=Europe/London:20230506T213000
DTEND;TZID=Europe/London:20230507T000000
DTSTAMP:20260422T032757
CREATED:20230501T152309Z
LAST-MODIFIED:20230501T152309Z
UID:1798-1683408600-1683417600@roundaboutclubsandy.co.uk
SUMMARY:EchoPlane
DESCRIPTION:We are delighted to welcome the awesome Echoplane to not just The Roundy but also our Coronation party here at the club. A 4 piece covers band from Beds & Northants playing all the classics from MR Brightside to sex on fire to the forgotten songs that deserve to be back in! Come down and celebrate the Kings coronation with this exciting new band. 9:30pm guests £3
URL:https://roundaboutclubsandy.co.uk/entertainment/echoplane/
LOCATION:The roundabout club\, Bedford Road\, Sandy\, SG191El\, United Kingdom
END:VEVENT
BEGIN:VEVENT
DTSTART;TZID=Europe/London:20230429T213000
DTEND;TZID=Europe/London:20230430T000000
DTSTAMP:20260422T032757
CREATED:20230103T132619Z
LAST-MODIFIED:20230103T132619Z
UID:1457-1682803800-1682812800@roundaboutclubsandy.co.uk
SUMMARY:Groove Connection
DESCRIPTION:Groove Connection are back. An amazing 5 piece female fronted band\, Covering 70’s and 80’s anthem floor fillers! Perfect Saturday night entertainment here at the club and it’s live! On the stage from 9:30pm. Guests £3
URL:https://roundaboutclubsandy.co.uk/entertainment/groove-connection-2/
LOCATION:The roundabout club\, Bedford Road\, Sandy\, SG191El\, United Kingdom
END:VEVENT
BEGIN:VEVENT
DTSTART;TZID=Europe/London:20230428T213000
DTEND;TZID=Europe/London:20230429T000000
DTSTAMP:20260422T032757
CREATED:20230103T132525Z
LAST-MODIFIED:20230103T132525Z
UID:1455-1682717400-1682726400@roundaboutclubsandy.co.uk
SUMMARY:Jason & The Skagonauts.
DESCRIPTION:New to 2023! Making their RC debut Jason & The Skagonauts. A 7 piece band playing ska’ed up versions of songs that aren’t ska! High energy\, great fun on what should be a fantastic evening of entertainment! Come down and give the guys The Roundy welcome.  \nLive on the stage 9:30pm. Guests £5
URL:https://roundaboutclubsandy.co.uk/entertainment/jason-the-skagonauts/
LOCATION:The roundabout club\, Bedford Road\, Sandy\, SG191El\, United Kingdom
END:VEVENT
BEGIN:VEVENT
DTSTART;TZID=Europe/London:20230422T213000
DTEND;TZID=Europe/London:20230423T000000
DTSTAMP:20260422T032757
CREATED:20230103T132350Z
LAST-MODIFIED:20230103T132350Z
UID:1453-1682199000-1682208000@roundaboutclubsandy.co.uk
SUMMARY:Memphis Train
DESCRIPTION:Back to the club for 2023 we are delighted to welcome the extremely talented Memphis Train. They are a Motown\, Soul and general covers band with some of our favourite musicians joining forces to create an evening of live entertainment you simply don’t want to miss! Come down and enjoy a great evening. Live on the stage 9:30pm guests £3
URL:https://roundaboutclubsandy.co.uk/entertainment/memphis-train/
LOCATION:The roundabout club\, Bedford Road\, Sandy\, SG191El\, United Kingdom
END:VEVENT
BEGIN:VEVENT
DTSTART;TZID=Europe/London:20230415T200000
DTEND;TZID=Europe/London:20230415T234500
DTSTAMP:20260422T032757
CREATED:20230103T132253Z
LAST-MODIFIED:20230412T192649Z
UID:1451-1681588800-1681602300@roundaboutclubsandy.co.uk
SUMMARY:Queenergy
DESCRIPTION:The Victory Suite is proud to present Queenergy\, a Queen tribute rock band that will have you dancing all night long!\n\n\nDoors open at 8PM\, so be sure to arrive early to enjoy some pre-show drinks and get ready to party. The music starts at 9 PM sharp\, so don’t be late!\n\n\nQueenergy is known for their high-energy performances and their ability to capture the spirit of one of the greatest rock bands of all time. With hits like “Bohemian Rhapsody\,” “We Will Rock You\,” and “Don’t Stop Me Now\,” this is a show you won’t want to miss.\n\n\nTickets are available now on https://www.skiddle.com/…/Queenergy-at-The…/36263405/\,
URL:https://roundaboutclubsandy.co.uk/entertainment/queenergy/
LOCATION:Victory Suite\, THE ROUNDABOUT CLUB BEDFORD ROAD\, SANDY\, Bedfordshire\, SG19 1EL\, United Kingdom
END:VEVENT
BEGIN:VEVENT
DTSTART;TZID=Europe/London:20230414T213000
DTEND;TZID=Europe/London:20230415T000000
DTSTAMP:20260422T032757
CREATED:20230103T132155Z
LAST-MODIFIED:20230103T132155Z
UID:1449-1681507800-1681516800@roundaboutclubsandy.co.uk
SUMMARY:The Desert Penguins
DESCRIPTION:New to 2023! We are delighted to announce The Desert Penguins are making their RC debut! An established pop gone rock band! Yes you read that right! A modern rock covers band playing all your favourite pop & rock songs! A high energy\, high calibre covers band bringing you huge sounding music! Come down make some noise and give them the Roundy welcome!  \nLive on the stage 9:30pm. Guests £3
URL:https://roundaboutclubsandy.co.uk/entertainment/the-desert-penguins/
LOCATION:The roundabout club\, Bedford Road\, Sandy\, SG191El\, United Kingdom
END:VEVENT
BEGIN:VEVENT
DTSTART;TZID=Europe/London:20230408T213000
DTEND;TZID=Europe/London:20230409T000000
DTSTAMP:20260422T032757
CREATED:20230103T131920Z
LAST-MODIFIED:20230103T131920Z
UID:1447-1680989400-1680998400@roundaboutclubsandy.co.uk
SUMMARY:The V.I.Peas
DESCRIPTION:The V.I.Peas are back at the Roundy! An exciting 5 piece band with Danni on lead vocals! Covering everything from Adele\, Bon Jovi\, Christina Peri to the likes of Queen and many more. A fantastic versatile covers band who will get you dancing the night away!  \nLive on the stage 9:30pm guests £3
URL:https://roundaboutclubsandy.co.uk/entertainment/the-v-i-peas/
LOCATION:The roundabout club\, Bedford Road\, Sandy\, SG191El\, United Kingdom
END:VEVENT
BEGIN:VEVENT
DTSTART;TZID=Europe/London:20230407T213000
DTEND;TZID=Europe/London:20230408T000000
DTSTAMP:20260422T032757
CREATED:20230103T122916Z
LAST-MODIFIED:20230103T122916Z
UID:1445-1680903000-1680912000@roundaboutclubsandy.co.uk
SUMMARY:‘Wholly Soul’
DESCRIPTION:The club are extremely delighted to present The Soul Man & Uche Eke as Wholly Soul. Bringing an exclusive evening packed full of the greatest soul songs with 2 of the best soul singers around this is a night you don’t want to miss!  \nLive on the stage 9:30pm guests £5
URL:https://roundaboutclubsandy.co.uk/entertainment/wholly-soul/
LOCATION:The roundabout club\, Bedford Road\, Sandy\, SG191El\, United Kingdom
END:VEVENT
BEGIN:VEVENT
DTSTART;TZID=Europe/London:20230401T213000
DTEND;TZID=Europe/London:20230402T000000
DTSTAMP:20260422T032757
CREATED:20230103T122557Z
LAST-MODIFIED:20230103T122557Z
UID:1443-1680384600-1680393600@roundaboutclubsandy.co.uk
SUMMARY:Funk Odyssey
DESCRIPTION:Funk Odyssey are a 5 piece funk and disco band. Consisting of exceptional lead female vocalists & one of the tightest rhythm sections around\, pop your dancing shoes on & enjoy a great band! \n Live on the stage from 9:30pm. Guests £3
URL:https://roundaboutclubsandy.co.uk/entertainment/funk-odyssey/
LOCATION:The roundabout club\, Bedford Road\, Sandy\, SG191El\, United Kingdom
END:VEVENT
BEGIN:VEVENT
DTSTART;TZID=Europe/London:20230331T213000
DTEND;TZID=Europe/London:20230401T000000
DTSTAMP:20260422T032757
CREATED:20230103T122434Z
LAST-MODIFIED:20230103T122434Z
UID:1441-1680298200-1680307200@roundaboutclubsandy.co.uk
SUMMARY:The Polaroidz
DESCRIPTION:A night of alternative hits form the 1979-1985. A  mix of Indie/ New Wave/Post-Punk and more. Covering all the best artists and big hits from that awesome era of music. From the likes of Duran Duran\, Human League\, The Police to Simple Minds\, The smiths\, and many more.  \nLive on the stage 9:30pm. Guests £3
URL:https://roundaboutclubsandy.co.uk/entertainment/the-polaroidz/
LOCATION:The roundabout club\, Bedford Road\, Sandy\, SG191El\, United Kingdom
END:VEVENT
BEGIN:VEVENT
DTSTART;TZID=Europe/London:20230325T213000
DTEND;TZID=Europe/London:20230326T000000
DTSTAMP:20260422T032757
CREATED:20230103T122255Z
LAST-MODIFIED:20230325T174942Z
UID:1439-1679779800-1679788800@roundaboutclubsandy.co.uk
SUMMARY:Lord Baker
DESCRIPTION:Ska Music – £3 non members
URL:https://roundaboutclubsandy.co.uk/entertainment/bubounce-ft-the-dekkertones/
LOCATION:The roundabout club\, Bedford Road\, Sandy\, SG191El\, United Kingdom
END:VEVENT
BEGIN:VEVENT
DTSTART;TZID=Europe/London:20230318T213000
DTEND;TZID=Europe/London:20230319T000000
DTSTAMP:20260422T032757
CREATED:20230103T122048Z
LAST-MODIFIED:20230103T122048Z
UID:1437-1679175000-1679184000@roundaboutclubsandy.co.uk
SUMMARY:Blitzed Kidz
DESCRIPTION:Back to the club for 2023 we welcome Blitzed Kidz the 1980’s synth pop duo. Covering the likes of Bowie\, Tears for Fears\, Simple Minds to the likes of Gary Numan\, culture club and Duran Duran. Come down and support live music!  \nLive on the stage 9:30pm. Guests £3
URL:https://roundaboutclubsandy.co.uk/entertainment/blitzed-kidz/
LOCATION:The roundabout club\, Bedford Road\, Sandy\, SG191El\, United Kingdom
END:VEVENT
END:VCALENDAR