BEGIN:VCALENDAR
VERSION:2.0
PRODID:-//The Roundabout club - ECPv6.15.20//NONSGML v1.0//EN
CALSCALE:GREGORIAN
METHOD:PUBLISH
X-WR-CALNAME:The Roundabout club
X-ORIGINAL-URL:https://roundaboutclubsandy.co.uk
X-WR-CALDESC:Events for The Roundabout club
REFRESH-INTERVAL;VALUE=DURATION:PT1H
X-Robots-Tag:noindex
X-PUBLISHED-TTL:PT1H
BEGIN:VTIMEZONE
TZID:Europe/London
BEGIN:DAYLIGHT
TZOFFSETFROM:+0000
TZOFFSETTO:+0100
TZNAME:BST
DTSTART:20220327T010000
END:DAYLIGHT
BEGIN:STANDARD
TZOFFSETFROM:+0100
TZOFFSETTO:+0000
TZNAME:GMT
DTSTART:20221030T010000
END:STANDARD
BEGIN:DAYLIGHT
TZOFFSETFROM:+0000
TZOFFSETTO:+0100
TZNAME:BST
DTSTART:20230326T010000
END:DAYLIGHT
BEGIN:STANDARD
TZOFFSETFROM:+0100
TZOFFSETTO:+0000
TZNAME:GMT
DTSTART:20231029T010000
END:STANDARD
BEGIN:DAYLIGHT
TZOFFSETFROM:+0000
TZOFFSETTO:+0100
TZNAME:BST
DTSTART:20240331T010000
END:DAYLIGHT
BEGIN:STANDARD
TZOFFSETFROM:+0100
TZOFFSETTO:+0000
TZNAME:GMT
DTSTART:20241027T010000
END:STANDARD
END:VTIMEZONE
BEGIN:VEVENT
DTSTART;TZID=Europe/London:20231222T213000
DTEND;TZID=Europe/London:20231223T000000
DTSTAMP:20260421T034215
CREATED:20230915T164549Z
LAST-MODIFIED:20231204T174426Z
UID:1964-1703280600-1703289600@roundaboutclubsandy.co.uk
SUMMARY:‘Waterloo’- Best of Abba
DESCRIPTION:The perfect early Christmas gift from us to you… We are delighted to welcome back this amazing tribute duo! Outstanding lead vocals from Danni & Amy in a brilliantly put together set this really is one night you don’t want to miss! Grab your dancing shoes and we’ll see you down the front.  Non members £3
URL:https://roundaboutclubsandy.co.uk/entertainment/waterloo-best-of-abba/
LOCATION:The roundabout club\, Bedford Road\, Sandy\, SG191El\, United Kingdom
END:VEVENT
BEGIN:VEVENT
DTSTART;TZID=Europe/London:20231216T213000
DTEND;TZID=Europe/London:20231217T000000
DTSTAMP:20260421T034215
CREATED:20230915T164323Z
LAST-MODIFIED:20231204T174324Z
UID:1962-1702762200-1702771200@roundaboutclubsandy.co.uk
SUMMARY:Mr Rainmaker
DESCRIPTION:The Roundy’s Christmas party\, with the fantastic Mr Rainmaker! The club are thrilled to welcome back the awesome Mr Rainmaker. Great friends to the club this 4 piece band will get you dancing the night away covering everything from rock\, pop to blues and soul! We welcome all members and guests to what will be one of the very best Christmas parties. To celebrate a special drinks menu will be announced on the evening. Come down and let’s have a right good party! Non members £3
URL:https://roundaboutclubsandy.co.uk/entertainment/mr-rainmaker-4/
LOCATION:The roundabout club\, Bedford Road\, Sandy\, SG191El\, United Kingdom
END:VEVENT
BEGIN:VEVENT
DTSTART;TZID=Europe/London:20231209T213000
DTEND;TZID=Europe/London:20231210T000000
DTSTAMP:20260421T034215
CREATED:20230915T164128Z
LAST-MODIFIED:20231204T172004Z
UID:1960-1702157400-1702166400@roundaboutclubsandy.co.uk
SUMMARY:Lia Gray
DESCRIPTION:Lia Gray is back in the house this christmas period! Covering everything from Soul\, Motown classics to funk\, rnb and pop it has everything to be a great night! Non members £3
URL:https://roundaboutclubsandy.co.uk/entertainment/lia-gray-3/
LOCATION:The roundabout club\, Bedford Road\, Sandy\, SG191El\, United Kingdom
END:VEVENT
BEGIN:VEVENT
DTSTART;TZID=Europe/London:20231208T200000
DTEND;TZID=Europe/London:20231209T000000
DTSTAMP:20260421T034215
CREATED:20230915T163939Z
LAST-MODIFIED:20231204T172546Z
UID:1958-1702065600-1702080000@roundaboutclubsandy.co.uk
SUMMARY:Castle Comedy - Christmas Special
DESCRIPTION:Sandy’s comedy club presents our Christmas special! Headlined by the amazing Bob mills this very special evening is going to be an absolute blast! Limited tickets are now available please head to castle comedy social pages to book your tickets. This is the perfect way to spend your Christmas party with friends\, family and even work colleagues! Get your tickets now you don’t want to miss it.
URL:https://roundaboutclubsandy.co.uk/entertainment/castle-comedy-christmas-special/
LOCATION:Sandy
ORGANIZER;CN="Castle Comedy Sandy":MAILTO:castlecomedy@hotmail.co.uk
END:VEVENT
BEGIN:VEVENT
DTSTART;TZID=Europe/London:20231202T213000
DTEND;TZID=Europe/London:20231203T000000
DTSTAMP:20260421T034215
CREATED:20230915T163633Z
LAST-MODIFIED:20230915T163633Z
UID:1955-1701552600-1701561600@roundaboutclubsandy.co.uk
SUMMARY:The Soul Sisters
DESCRIPTION:What a way to start our Saturday festive period here at the club! The Soul sisters are the ultimate female vocal duo. Playing classic soul\, Motown and latest pop tunes! Both are no strangers to the club and we’re delighted they are back to put on another amazing show. Non members £3
URL:https://roundaboutclubsandy.co.uk/entertainment/the-soul-sisters-2/
LOCATION:The roundabout club\, Bedford Road\, Sandy\, SG191El\, United Kingdom
END:VEVENT
BEGIN:VEVENT
DTSTART;TZID=Europe/London:20231201T213000
DTEND;TZID=Europe/London:20231202T000000
DTSTAMP:20260421T034215
CREATED:20230915T163503Z
LAST-MODIFIED:20230915T163706Z
UID:1953-1701466200-1701475200@roundaboutclubsandy.co.uk
SUMMARY:The Real McKoys
DESCRIPTION:The Club are delighted to welcome The Real McKoys back to the Roundy! A brilliant way to introduce our Christmas period with an exciting band. Playing 50’s pop ballards to the 00’s\, turning them into Punk rock! Non members £3
URL:https://roundaboutclubsandy.co.uk/entertainment/the-real-mckoys/
LOCATION:The roundabout club\, Bedford Road\, Sandy\, SG191El\, United Kingdom
END:VEVENT
BEGIN:VEVENT
DTSTART;TZID=Europe/London:20231125T213000
DTEND;TZID=Europe/London:20231126T000000
DTSTAMP:20260421T034215
CREATED:20230915T163324Z
LAST-MODIFIED:20230915T163324Z
UID:1951-1700947800-1700956800@roundaboutclubsandy.co.uk
SUMMARY:2Tones - Victory Suite anniversary weekend
DESCRIPTION:To celebrate the Victory Suite’s 1 year anniversary of being open we have a fantastic weekend of entertainment planned with 2Tones headlining our Saturday evening! \nTHIS IS SKA! 2Tones are one of Northamptonshire & Bedfordshire’s leading ska performers! A real crowd favourite\, with local lad Gav on lead vocals it’s going to be lively! \nFree to members\, £5 non members. Early admission is advised.
URL:https://roundaboutclubsandy.co.uk/entertainment/2tones-victory-suite-anniversary-weekend/
LOCATION:Victory Suite\, THE ROUNDABOUT CLUB BEDFORD ROAD\, SANDY\, Bedfordshire\, SG19 1EL\, United Kingdom
END:VEVENT
BEGIN:VEVENT
DTSTART;TZID=Europe/London:20231124T213000
DTEND;TZID=Europe/London:20231125T000000
DTSTAMP:20260421T034215
CREATED:20230915T163019Z
LAST-MODIFIED:20230929T160454Z
UID:1949-1700861400-1700870400@roundaboutclubsandy.co.uk
SUMMARY:Wholly Soul - Victory Suite anniversary weekend
DESCRIPTION:To celebrate the Victory Suite’s 1 year anniversary of being open we have a fantastic weekend of entertainment planned kicking off with the wholly soul! \nWe are delighted ‘Wholly Soul’ are back. The Soul Man and Uche Eke are teaming up as the duo\, Wholly Soul. Bringing an evening packed full of all the greatest soul songs this is one not to be missed! \nFree for members\, £5 non members. Early admission is advised.
URL:https://roundaboutclubsandy.co.uk/entertainment/wholly-soul-victory-suite-anniversary-weekend/
LOCATION:Victory Suite\, THE ROUNDABOUT CLUB BEDFORD ROAD\, SANDY\, Bedfordshire\, SG19 1EL\, United Kingdom
END:VEVENT
BEGIN:VEVENT
DTSTART;TZID=Europe/London:20231118T213000
DTEND;TZID=Europe/London:20231119T000000
DTSTAMP:20260421T034215
CREATED:20230915T162701Z
LAST-MODIFIED:20230915T162701Z
UID:1947-1700343000-1700352000@roundaboutclubsandy.co.uk
SUMMARY:The V.I.Peas
DESCRIPTION:The V.I.Peas are back this November! An exciting 5 piece band with Danni on lead vocals! Covering everything from Adele\, Bon Jovi\, Christina Peri to the likes of Queen and many more. A fantastic versatile band who will get you dancing the night away. Non members £3
URL:https://roundaboutclubsandy.co.uk/entertainment/the-v-i-peas-2/
LOCATION:The roundabout club\, Bedford Road\, Sandy\, SG191El\, United Kingdom
END:VEVENT
BEGIN:VEVENT
DTSTART;TZID=Europe/London:20231117T213000
DTEND;TZID=Europe/London:20231118T000000
DTSTAMP:20260421T034215
CREATED:20230915T162205Z
LAST-MODIFIED:20230915T162205Z
UID:1945-1700256600-1700265600@roundaboutclubsandy.co.uk
SUMMARY:Dj Jingles karaoke
DESCRIPTION:Resident house Dj Jingles is back with another Roundy special karaoke evening! Non members £3
URL:https://roundaboutclubsandy.co.uk/entertainment/dj-jingles-karaoke-3/
LOCATION:The roundabout club\, Bedford Road\, Sandy\, SG191El\, United Kingdom
END:VEVENT
BEGIN:VEVENT
DTSTART;TZID=Europe/London:20231110T213000
DTEND;TZID=Europe/London:20231111T000000
DTSTAMP:20260421T034215
CREATED:20230915T162031Z
LAST-MODIFIED:20230915T162031Z
UID:1943-1699651800-1699660800@roundaboutclubsandy.co.uk
SUMMARY:The Polaroidz
DESCRIPTION:A night of Alternative Hits from 1979 – 1985… a mix of Indie/Synth-Pop/New Wave/Post-Punk and more… covering all the best artists and big hits from that awesome era of music. Non members £3
URL:https://roundaboutclubsandy.co.uk/entertainment/the-polaroidz-2/
LOCATION:The roundabout club\, Bedford Road\, Sandy\, SG191El\, United Kingdom
END:VEVENT
BEGIN:VEVENT
DTSTART;TZID=Europe/London:20231104T213000
DTEND;TZID=Europe/London:20231105T000000
DTSTAMP:20260421T034215
CREATED:20230915T161902Z
LAST-MODIFIED:20230915T161902Z
UID:1941-1699133400-1699142400@roundaboutclubsandy.co.uk
SUMMARY:Blacksmith
DESCRIPTION:We are thrilled to announce the supergroup Blacksmith! F.T The legendary Podge as lead. He is known for being the best AC/DC tribute singer in the Uk. Playing everything classic rock it’s an evening not to be missed. Non members £3
URL:https://roundaboutclubsandy.co.uk/entertainment/blacksmith-4/
LOCATION:The roundabout club\, Bedford Road\, Sandy\, SG191El\, United Kingdom
END:VEVENT
BEGIN:VEVENT
DTSTART;TZID=Europe/London:20231103T213000
DTEND;TZID=Europe/London:20231104T000000
DTSTAMP:20260421T034215
CREATED:20230915T161715Z
LAST-MODIFIED:20230915T161715Z
UID:1939-1699047000-1699056000@roundaboutclubsandy.co.uk
SUMMARY:Nick Moyster
DESCRIPTION:Delighted to welcome back Nick to the Roundy this year! Nick is an acoustic singer/songwriter and has been performing for over the last 5 years and his reputation is swiftly growing! A brilliant local musician playing live for us at the club\, come down and support local and live music. Non members £3
URL:https://roundaboutclubsandy.co.uk/entertainment/nick-moyster/
LOCATION:The roundabout club\, Bedford Road\, Sandy\, SG191El\, United Kingdom
END:VEVENT
BEGIN:VEVENT
DTSTART;TZID=Europe/London:20231028T213000
DTEND;TZID=Europe/London:20231029T000000
DTSTAMP:20260421T034215
CREATED:20230915T160147Z
LAST-MODIFIED:20230915T160147Z
UID:1937-1698528600-1698537600@roundaboutclubsandy.co.uk
SUMMARY:All Glammed Up
DESCRIPTION:The club are thrilled to welcome back All Glammed Up. East Anglia’s premier glam rock tribute band\, playing all the classics from Bowie\, Slade\, Marc Bolan\, to name a few! Your only chance to catch them at the Roundy this year so don’t miss it!! Non members £3
URL:https://roundaboutclubsandy.co.uk/entertainment/all-glammed-up/
LOCATION:The roundabout club\, Bedford Road\, Sandy\, SG191El\, United Kingdom
END:VEVENT
BEGIN:VEVENT
DTSTART;TZID=Europe/London:20231027T213000
DTEND;TZID=Europe/London:20231028T000000
DTSTAMP:20260421T034215
CREATED:20230915T160020Z
LAST-MODIFIED:20230915T160020Z
UID:1935-1698442200-1698451200@roundaboutclubsandy.co.uk
SUMMARY:Dj Jingles Karaoke ‘Halloween Special’
DESCRIPTION:A Halloween special with our very own resident house Dj Jingles. Come down and join us for a great evening of entertainment! Non members £3
URL:https://roundaboutclubsandy.co.uk/entertainment/dj-jingles-karaoke-halloween-special/
LOCATION:The roundabout club\, Bedford Road\, Sandy\, SG191El\, United Kingdom
END:VEVENT
BEGIN:VEVENT
DTSTART;TZID=Europe/London:20231021T213000
DTEND;TZID=Europe/London:20231022T000000
DTSTAMP:20260421T034215
CREATED:20230915T155721Z
LAST-MODIFIED:20230915T155744Z
UID:1933-1697923800-1697932800@roundaboutclubsandy.co.uk
SUMMARY:Popscene
DESCRIPTION:This fantastic Britpop covers band make a welcome return to the club. Covering all the great British sounds including Arctic Monkeys\, Blur\, Stereophonics\, Stone Roses\, Paul Weller\, Oasis and many more. Grab your Fred Perry’s and see you down the front! Don’t miss this one. Non members £3
URL:https://roundaboutclubsandy.co.uk/entertainment/popscene-3/
LOCATION:The roundabout club\, Bedford Road\, Sandy\, SG191El\, United Kingdom
END:VEVENT
BEGIN:VEVENT
DTSTART;TZID=Europe/London:20231021T190000
DTEND;TZID=Europe/London:20231021T213000
DTSTAMP:20260421T034215
CREATED:20231008T113523Z
LAST-MODIFIED:20231008T113523Z
UID:1967-1697914800-1697923800@roundaboutclubsandy.co.uk
SUMMARY:Flamenco Fusion
DESCRIPTION:Flamenco fusion are live in the victory suite on their destino tour 2023. A duo who are amazing guitar phenomenons as featured on bbc breakfast\, and radio 2.\nplease note* this is a private booking of the victory suite & no tickets are on sale directly through the roundabout club. To purchase tickets for this event please contact Noreen Prigmore on 07791315378 or visit duoguitarmusic.com/live\nTickets cost £14 including booking fee\, doors will open at 7:00pm with the performance starting at 7:30pm
URL:https://roundaboutclubsandy.co.uk/entertainment/flamenco-fusion/
LOCATION:Victory Suite\, THE ROUNDABOUT CLUB BEDFORD ROAD\, SANDY\, Bedfordshire\, SG19 1EL\, United Kingdom
END:VEVENT
BEGIN:VEVENT
DTSTART;TZID=Europe/London:20231020T213000
DTEND;TZID=Europe/London:20231021T000000
DTSTAMP:20260421T034215
CREATED:20230915T155535Z
LAST-MODIFIED:20230915T155535Z
UID:1930-1697837400-1697846400@roundaboutclubsandy.co.uk
SUMMARY:ExAct Duo
DESCRIPTION:This great duo return to the club presenting their updated set full a huge range of music including pop\, rock\, country\, disco\, ballads\, opera and many more. Local and live music here at the Roundy this Friday night. Non members £3
URL:https://roundaboutclubsandy.co.uk/entertainment/exact-duo-2/
LOCATION:The roundabout club\, Bedford Road\, Sandy\, SG191El\, United Kingdom
END:VEVENT
BEGIN:VEVENT
DTSTART;TZID=Europe/London:20231014T213000
DTEND;TZID=Europe/London:20231015T000000
DTSTAMP:20260421T034215
CREATED:20230915T155400Z
LAST-MODIFIED:20230915T155400Z
UID:1928-1697319000-1697328000@roundaboutclubsandy.co.uk
SUMMARY:Mr Rainmaker
DESCRIPTION:The boys are back in Town! A real crowd favourite and great friends to us at the Roundy\, Mr Rainmaker are live this Saturday! A versatile\, experienced 4 piece band covering rock\, pop\, to blues and soul they really know how to put a gig on. Non members £3. Early admission advised.
URL:https://roundaboutclubsandy.co.uk/entertainment/mr-rainmaker-3/
LOCATION:The roundabout club\, Bedford Road\, Sandy\, SG191El\, United Kingdom
END:VEVENT
BEGIN:VEVENT
DTSTART;TZID=Europe/London:20231013T213000
DTEND;TZID=Europe/London:20231014T000000
DTSTAMP:20260421T034215
CREATED:20230915T155111Z
LAST-MODIFIED:20230915T155111Z
UID:1926-1697232600-1697241600@roundaboutclubsandy.co.uk
SUMMARY:The Atomics
DESCRIPTION:The Roundy are delighted to welcome back The Atomics. Bringing a top night of live music covering all your favourite retro new wave tunes including songs by the likes of Blondie\, The Cars\, Adam & The Ants\, Squeeze\, Bowie and many more. Non members £3
URL:https://roundaboutclubsandy.co.uk/entertainment/the-atomics-2/
LOCATION:The roundabout club\, Bedford Road\, Sandy\, SG191El\, United Kingdom
END:VEVENT
BEGIN:VEVENT
DTSTART;TZID=Europe/London:20231007T213000
DTEND;TZID=Europe/London:20231008T000000
DTSTAMP:20260421T034215
CREATED:20230915T154939Z
LAST-MODIFIED:20230915T154939Z
UID:1924-1696714200-1696723200@roundaboutclubsandy.co.uk
SUMMARY:Resonance
DESCRIPTION:Resonance are back with us at the club. Playing covers from pop\, rock\, disco and more! With strong musicians and spine tingling 2 part female harmonies come down and enjoy a great evening of live music. Non members £3
URL:https://roundaboutclubsandy.co.uk/entertainment/resonance-3/
LOCATION:The roundabout club\, Bedford Road\, Sandy\, SG191El\, United Kingdom
END:VEVENT
BEGIN:VEVENT
DTSTART;TZID=Europe/London:20231006T213000
DTEND;TZID=Europe/London:20231007T000000
DTSTAMP:20260421T034215
CREATED:20230915T154726Z
LAST-MODIFIED:20230915T154726Z
UID:1922-1696627800-1696636800@roundaboutclubsandy.co.uk
SUMMARY:Soul Chain Band
DESCRIPTION:After smashing their Roundy debut earlier in the year\, we are delighted to welcome back Soul Chain. A Hertfordshire based female vox fronted 5 piece band playing all the feel good soul favourites and a few surprises along the way. Non members £3
URL:https://roundaboutclubsandy.co.uk/entertainment/soul-chain-band-2/
LOCATION:The roundabout club\, Bedford Road\, Sandy\, SG191El\, United Kingdom
END:VEVENT
BEGIN:VEVENT
DTSTART;TZID=Europe/London:20230930T213000
DTEND;TZID=Europe/London:20231001T000000
DTSTAMP:20260421T034215
CREATED:20230510T210246Z
LAST-MODIFIED:20230510T210246Z
UID:1882-1696109400-1696118400@roundaboutclubsandy.co.uk
SUMMARY:Max Headroom
DESCRIPTION:Your last chance this year to catch The Indie Rock legends at The Roundy! The trio from Ely are a high energy rock band playing everything from 60’s rock/pop to 90’s Indie rock. Come down and support local and live music with this awesome band. Guests £3
URL:https://roundaboutclubsandy.co.uk/entertainment/max-headroom-4/
LOCATION:The roundabout club\, Bedford Road\, Sandy\, SG191El\, United Kingdom
END:VEVENT
BEGIN:VEVENT
DTSTART;TZID=Europe/London:20230929T213000
DTEND;TZID=Europe/London:20230930T000000
DTSTAMP:20260421T034215
CREATED:20230510T210125Z
LAST-MODIFIED:20230902T174554Z
UID:1880-1696023000-1696032000@roundaboutclubsandy.co.uk
SUMMARY:Lia Gray
DESCRIPTION:Lia has quickly become a firm favourite with our members and guests here at the club and we are delighted to welcome her back agian! Covering everything from Soul\, MoTown classics to funk\, rnb & pop! It has everything to be a great Friday night entertainment here at The Roundy! \nLive on the stage 9:30pm guests £3
URL:https://roundaboutclubsandy.co.uk/entertainment/kev-hall-friends-3/
LOCATION:The roundabout club\, Bedford Road\, Sandy\, SG191El\, United Kingdom
END:VEVENT
BEGIN:VEVENT
DTSTART;TZID=Europe/London:20230923T213000
DTEND;TZID=Europe/London:20230924T000000
DTSTAMP:20260421T034215
CREATED:20230510T205600Z
LAST-MODIFIED:20230510T205600Z
UID:1878-1695504600-1695513600@roundaboutclubsandy.co.uk
SUMMARY:Six Go Mad
DESCRIPTION:What a night we have planned! If you managed to see this amazing band live here at the Rc before then you will know what a brilliant gig they provide! Playing a thrilling mix of memorable material from the heyday of the 80’s to present day hits! A club night you don’t want to miss!
URL:https://roundaboutclubsandy.co.uk/entertainment/six-go-mad-3/
LOCATION:The roundabout club\, Bedford Road\, Sandy\, SG191El\, United Kingdom
END:VEVENT
BEGIN:VEVENT
DTSTART;VALUE=DATE:20230922
DTEND;VALUE=DATE:20230923
DTSTAMP:20260421T034215
CREATED:20230510T205501Z
LAST-MODIFIED:20230510T205501Z
UID:1876-1695340800-1695427199@roundaboutclubsandy.co.uk
SUMMARY:Castle Comedy in The Victory Suite
DESCRIPTION:Sandy’s home of comedy brings you a September special! All details will be released very soon. 
URL:https://roundaboutclubsandy.co.uk/entertainment/castle-comedy-in-the-victory-suite/
LOCATION:Victory Suite\, THE ROUNDABOUT CLUB BEDFORD ROAD\, SANDY\, Bedfordshire\, SG19 1EL\, United Kingdom
END:VEVENT
BEGIN:VEVENT
DTSTART;TZID=Europe/London:20230916T213000
DTEND;TZID=Europe/London:20230917T000000
DTSTAMP:20260421T034215
CREATED:20230902T174728Z
LAST-MODIFIED:20230902T175424Z
UID:1914-1694899800-1694908800@roundaboutclubsandy.co.uk
SUMMARY:The Real McKoys
DESCRIPTION:The Club are delighted to welcome The Real McKoys to the club for 2023! Covering 50’s pop ballards to the 00’s\, turning them into Punk rock! Come down and give the lads the Roundy welcome you don’t want to miss it!
URL:https://roundaboutclubsandy.co.uk/entertainment/the-real-mckoy/
LOCATION:The roundabout club\, Bedford Road\, Sandy\, SG191El\, United Kingdom
END:VEVENT
BEGIN:VEVENT
DTSTART;TZID=Europe/London:20230909T213000
DTEND;TZID=Europe/London:20230910T000000
DTSTAMP:20260421T034215
CREATED:20230510T205259Z
LAST-MODIFIED:20230510T205259Z
UID:1872-1694295000-1694304000@roundaboutclubsandy.co.uk
SUMMARY:Funk Odyssey
DESCRIPTION:Funk Odyssey return to The Roundy! They are a 5 piece soul funk and disco band. Consisting of an exceptional lead female vocalists & one of the tightest rhythm sections around\, pop your dancing shoes on & enjoy a great band! Guests £3
URL:https://roundaboutclubsandy.co.uk/entertainment/funk-odyssey-2/
LOCATION:The roundabout club\, Bedford Road\, Sandy\, SG191El\, United Kingdom
END:VEVENT
BEGIN:VEVENT
DTSTART;TZID=Europe/London:20230908T213000
DTEND;TZID=Europe/London:20230909T000000
DTSTAMP:20260421T034215
CREATED:20230510T205211Z
LAST-MODIFIED:20230510T205211Z
UID:1870-1694208600-1694217600@roundaboutclubsandy.co.uk
SUMMARY:Roxy Searle
DESCRIPTION:After making her Sandy & Roundy debut earlier in the year we are delighted to welcome Roxy back to the club! A fantastic singer songwriter performing acoustic covers of all your favourite songs! Her debut single ‘Country Girl’ was released in February 2022 so go check it out! Come down and enjoy a brilliant solo singer here at the club. guests £3
URL:https://roundaboutclubsandy.co.uk/entertainment/roxy-searle-2/
LOCATION:The roundabout club\, Bedford Road\, Sandy\, SG191El\, United Kingdom
END:VEVENT
BEGIN:VEVENT
DTSTART;TZID=Europe/London:20230902T213000
DTEND;TZID=Europe/London:20230903T000000
DTSTAMP:20260421T034215
CREATED:20230510T205123Z
LAST-MODIFIED:20230510T205123Z
UID:1868-1693690200-1693699200@roundaboutclubsandy.co.uk
SUMMARY:Blitzed Kidz
DESCRIPTION:Blitzed Kidz are a 1980’s synthpop duo. Covering the likes of Bowie\, Tears for Fears\, Simple Minds to the likes of Gary Numan\, culture club and Duran Duran. Come down and support live music! Guests £3
URL:https://roundaboutclubsandy.co.uk/entertainment/blitzed-kidz-2/
LOCATION:The roundabout club\, Bedford Road\, Sandy\, SG191El\, United Kingdom
END:VEVENT
END:VCALENDAR