BEGIN:VCALENDAR
VERSION:2.0
PRODID:-//The Roundabout club - ECPv6.15.20//NONSGML v1.0//EN
CALSCALE:GREGORIAN
METHOD:PUBLISH
X-ORIGINAL-URL:https://roundaboutclubsandy.co.uk
X-WR-CALDESC:Events for The Roundabout club
REFRESH-INTERVAL;VALUE=DURATION:PT1H
X-Robots-Tag:noindex
X-PUBLISHED-TTL:PT1H
BEGIN:VTIMEZONE
TZID:Europe/London
BEGIN:DAYLIGHT
TZOFFSETFROM:+0000
TZOFFSETTO:+0100
TZNAME:BST
DTSTART:20220327T010000
END:DAYLIGHT
BEGIN:STANDARD
TZOFFSETFROM:+0100
TZOFFSETTO:+0000
TZNAME:GMT
DTSTART:20221030T010000
END:STANDARD
BEGIN:DAYLIGHT
TZOFFSETFROM:+0000
TZOFFSETTO:+0100
TZNAME:BST
DTSTART:20230326T010000
END:DAYLIGHT
BEGIN:STANDARD
TZOFFSETFROM:+0100
TZOFFSETTO:+0000
TZNAME:GMT
DTSTART:20231029T010000
END:STANDARD
BEGIN:DAYLIGHT
TZOFFSETFROM:+0000
TZOFFSETTO:+0100
TZNAME:BST
DTSTART:20240331T010000
END:DAYLIGHT
BEGIN:STANDARD
TZOFFSETFROM:+0100
TZOFFSETTO:+0000
TZNAME:GMT
DTSTART:20241027T010000
END:STANDARD
END:VTIMEZONE
BEGIN:VEVENT
DTSTART;TZID=Europe/London:20231103T213000
DTEND;TZID=Europe/London:20231104T000000
DTSTAMP:20260422T002053
CREATED:20230915T161715Z
LAST-MODIFIED:20230915T161715Z
UID:1939-1699047000-1699056000@roundaboutclubsandy.co.uk
SUMMARY:Nick Moyster
DESCRIPTION:Delighted to welcome back Nick to the Roundy this year! Nick is an acoustic singer/songwriter and has been performing for over the last 5 years and his reputation is swiftly growing! A brilliant local musician playing live for us at the club\, come down and support local and live music. Non members £3
URL:https://roundaboutclubsandy.co.uk/entertainment/nick-moyster/
LOCATION:The roundabout club\, Bedford Road\, Sandy\, SG191El\, United Kingdom
END:VEVENT
BEGIN:VEVENT
DTSTART;TZID=Europe/London:20231104T213000
DTEND;TZID=Europe/London:20231105T000000
DTSTAMP:20260422T002053
CREATED:20230915T161902Z
LAST-MODIFIED:20230915T161902Z
UID:1941-1699133400-1699142400@roundaboutclubsandy.co.uk
SUMMARY:Blacksmith
DESCRIPTION:We are thrilled to announce the supergroup Blacksmith! F.T The legendary Podge as lead. He is known for being the best AC/DC tribute singer in the Uk. Playing everything classic rock it’s an evening not to be missed. Non members £3
URL:https://roundaboutclubsandy.co.uk/entertainment/blacksmith-4/
LOCATION:The roundabout club\, Bedford Road\, Sandy\, SG191El\, United Kingdom
END:VEVENT
BEGIN:VEVENT
DTSTART;TZID=Europe/London:20231110T213000
DTEND;TZID=Europe/London:20231111T000000
DTSTAMP:20260422T002053
CREATED:20230915T162031Z
LAST-MODIFIED:20230915T162031Z
UID:1943-1699651800-1699660800@roundaboutclubsandy.co.uk
SUMMARY:The Polaroidz
DESCRIPTION:A night of Alternative Hits from 1979 – 1985… a mix of Indie/Synth-Pop/New Wave/Post-Punk and more… covering all the best artists and big hits from that awesome era of music. Non members £3
URL:https://roundaboutclubsandy.co.uk/entertainment/the-polaroidz-2/
LOCATION:The roundabout club\, Bedford Road\, Sandy\, SG191El\, United Kingdom
END:VEVENT
BEGIN:VEVENT
DTSTART;TZID=Europe/London:20231117T213000
DTEND;TZID=Europe/London:20231118T000000
DTSTAMP:20260422T002053
CREATED:20230915T162205Z
LAST-MODIFIED:20230915T162205Z
UID:1945-1700256600-1700265600@roundaboutclubsandy.co.uk
SUMMARY:Dj Jingles karaoke
DESCRIPTION:Resident house Dj Jingles is back with another Roundy special karaoke evening! Non members £3
URL:https://roundaboutclubsandy.co.uk/entertainment/dj-jingles-karaoke-3/
LOCATION:The roundabout club\, Bedford Road\, Sandy\, SG191El\, United Kingdom
END:VEVENT
BEGIN:VEVENT
DTSTART;TZID=Europe/London:20231118T213000
DTEND;TZID=Europe/London:20231119T000000
DTSTAMP:20260422T002053
CREATED:20230915T162701Z
LAST-MODIFIED:20230915T162701Z
UID:1947-1700343000-1700352000@roundaboutclubsandy.co.uk
SUMMARY:The V.I.Peas
DESCRIPTION:The V.I.Peas are back this November! An exciting 5 piece band with Danni on lead vocals! Covering everything from Adele\, Bon Jovi\, Christina Peri to the likes of Queen and many more. A fantastic versatile band who will get you dancing the night away. Non members £3
URL:https://roundaboutclubsandy.co.uk/entertainment/the-v-i-peas-2/
LOCATION:The roundabout club\, Bedford Road\, Sandy\, SG191El\, United Kingdom
END:VEVENT
BEGIN:VEVENT
DTSTART;TZID=Europe/London:20231124T213000
DTEND;TZID=Europe/London:20231125T000000
DTSTAMP:20260422T002053
CREATED:20230915T163019Z
LAST-MODIFIED:20230929T160454Z
UID:1949-1700861400-1700870400@roundaboutclubsandy.co.uk
SUMMARY:Wholly Soul - Victory Suite anniversary weekend
DESCRIPTION:To celebrate the Victory Suite’s 1 year anniversary of being open we have a fantastic weekend of entertainment planned kicking off with the wholly soul! \nWe are delighted ‘Wholly Soul’ are back. The Soul Man and Uche Eke are teaming up as the duo\, Wholly Soul. Bringing an evening packed full of all the greatest soul songs this is one not to be missed! \nFree for members\, £5 non members. Early admission is advised.
URL:https://roundaboutclubsandy.co.uk/entertainment/wholly-soul-victory-suite-anniversary-weekend/
LOCATION:Victory Suite\, THE ROUNDABOUT CLUB BEDFORD ROAD\, SANDY\, Bedfordshire\, SG19 1EL\, United Kingdom
END:VEVENT
BEGIN:VEVENT
DTSTART;TZID=Europe/London:20231125T213000
DTEND;TZID=Europe/London:20231126T000000
DTSTAMP:20260422T002053
CREATED:20230915T163324Z
LAST-MODIFIED:20230915T163324Z
UID:1951-1700947800-1700956800@roundaboutclubsandy.co.uk
SUMMARY:2Tones - Victory Suite anniversary weekend
DESCRIPTION:To celebrate the Victory Suite’s 1 year anniversary of being open we have a fantastic weekend of entertainment planned with 2Tones headlining our Saturday evening! \nTHIS IS SKA! 2Tones are one of Northamptonshire & Bedfordshire’s leading ska performers! A real crowd favourite\, with local lad Gav on lead vocals it’s going to be lively! \nFree to members\, £5 non members. Early admission is advised.
URL:https://roundaboutclubsandy.co.uk/entertainment/2tones-victory-suite-anniversary-weekend/
LOCATION:Victory Suite\, THE ROUNDABOUT CLUB BEDFORD ROAD\, SANDY\, Bedfordshire\, SG19 1EL\, United Kingdom
END:VEVENT
END:VCALENDAR