BEGIN:VCALENDAR
VERSION:2.0
PRODID:-//The Roundabout club - ECPv6.15.20//NONSGML v1.0//EN
CALSCALE:GREGORIAN
METHOD:PUBLISH
X-ORIGINAL-URL:https://roundaboutclubsandy.co.uk
X-WR-CALDESC:Events for The Roundabout club
REFRESH-INTERVAL;VALUE=DURATION:PT1H
X-Robots-Tag:noindex
X-PUBLISHED-TTL:PT1H
BEGIN:VTIMEZONE
TZID:Europe/London
BEGIN:DAYLIGHT
TZOFFSETFROM:+0000
TZOFFSETTO:+0100
TZNAME:BST
DTSTART:20230326T010000
END:DAYLIGHT
BEGIN:STANDARD
TZOFFSETFROM:+0100
TZOFFSETTO:+0000
TZNAME:GMT
DTSTART:20231029T010000
END:STANDARD
BEGIN:DAYLIGHT
TZOFFSETFROM:+0000
TZOFFSETTO:+0100
TZNAME:BST
DTSTART:20240331T010000
END:DAYLIGHT
BEGIN:STANDARD
TZOFFSETFROM:+0100
TZOFFSETTO:+0000
TZNAME:GMT
DTSTART:20241027T010000
END:STANDARD
BEGIN:DAYLIGHT
TZOFFSETFROM:+0000
TZOFFSETTO:+0100
TZNAME:BST
DTSTART:20250330T010000
END:DAYLIGHT
BEGIN:STANDARD
TZOFFSETFROM:+0100
TZOFFSETTO:+0000
TZNAME:GMT
DTSTART:20251026T010000
END:STANDARD
END:VTIMEZONE
BEGIN:VEVENT
DTSTART;TZID=Europe/London:20240202T213000
DTEND;TZID=Europe/London:20240203T000000
DTSTAMP:20260421T201442
CREATED:20240124T182200Z
LAST-MODIFIED:20240124T182200Z
UID:1998-1706909400-1706918400@roundaboutclubsandy.co.uk
SUMMARY:Jam 69
DESCRIPTION:Join us this Friday night as The Jam hit the club! Covering tunes by The Jam\, Buzzcocks\, The Undertones\, The Who\, The Clash\, The Stranglers\, The Specials\, Madness\, Stiff Little Fingers\, The Sex Pistols\, Sham 69\, The Ruts\, The Vapors and many more. \nFree to members. Guest sign in £3
URL:https://roundaboutclubsandy.co.uk/entertainment/jam-69-3/
LOCATION:The roundabout club\, Bedford Road\, Sandy\, SG191El\, United Kingdom
END:VEVENT
BEGIN:VEVENT
DTSTART;TZID=Europe/London:20240203T213000
DTEND;TZID=Europe/London:20240204T000000
DTSTAMP:20260421T201442
CREATED:20240124T182341Z
LAST-MODIFIED:20240124T182341Z
UID:2000-1706995800-1707004800@roundaboutclubsandy.co.uk
SUMMARY:Soul Chain Band
DESCRIPTION:After smashing their Roundy debut last year we are delighted to welcome back The Soul chain band. A Hertfordshire based female vox fronted 5 piece band playing all the feel good soul favourites. Bring those dancing shoes it’s going to be a great evening. \nFree to members. Guest sign in £3
URL:https://roundaboutclubsandy.co.uk/entertainment/soul-chain-band-3/
LOCATION:The roundabout club\, Bedford Road\, Sandy\, SG191El\, United Kingdom
END:VEVENT
BEGIN:VEVENT
DTSTART;TZID=Europe/London:20240210T213000
DTEND;TZID=Europe/London:20240211T000000
DTSTAMP:20260421T201442
CREATED:20240124T182552Z
LAST-MODIFIED:20240124T182552Z
UID:2002-1707600600-1707609600@roundaboutclubsandy.co.uk
SUMMARY:Resonance
DESCRIPTION:3 Funky Female Vocalists front a Rocking 7 Piece Band – Unleashing the ultimate medley of Rock\, Pop\, Soul and Disco Grooves – Guaranteed to Boogie and get you down on the dance floor! \nFree to members. Guest sign in £3
URL:https://roundaboutclubsandy.co.uk/entertainment/resonance-4/
LOCATION:The roundabout club\, Bedford Road\, Sandy\, SG191El\, United Kingdom
END:VEVENT
BEGIN:VEVENT
DTSTART;TZID=Europe/London:20240216T200000
DTEND;TZID=Europe/London:20240217T003000
DTSTAMP:20260421T201442
CREATED:20240124T182802Z
LAST-MODIFIED:20240124T182802Z
UID:2004-1708113600-1708129800@roundaboutclubsandy.co.uk
SUMMARY:Club Karaoke
DESCRIPTION:Club Karaoke with resident Dj jingles with a very special Valentines karaoke! shot menu and gifts for all singers. Always a brilliant club night\, come down and show us your singing voice. \nFree to members. Guest sign in £3
URL:https://roundaboutclubsandy.co.uk/entertainment/club-karaoke-2/
LOCATION:The roundabout club\, Bedford Road\, Sandy\, SG191El\, United Kingdom
END:VEVENT
BEGIN:VEVENT
DTSTART;TZID=Europe/London:20240217T213000
DTEND;TZID=Europe/London:20240218T000000
DTSTAMP:20260421T201442
CREATED:20240124T183101Z
LAST-MODIFIED:20240124T183101Z
UID:2006-1708205400-1708214400@roundaboutclubsandy.co.uk
SUMMARY:Lia Gray ‘Valentines Soul Special’
DESCRIPTION:The Roundy are delighted to reveal our Valentines special with the amazing Lia! A crowd favourite covering all of the very best soul\, funk and disco tunes. More details regarding a special valentines drinks menu can be found on our socials closer to the time. \nFree to members. Guest sign in £3
URL:https://roundaboutclubsandy.co.uk/entertainment/lia-gray-valentines-soul-special/
LOCATION:The roundabout club\, Bedford Road\, Sandy\, SG191El\, United Kingdom
END:VEVENT
BEGIN:VEVENT
DTSTART;TZID=Europe/London:20240223T213000
DTEND;TZID=Europe/London:20240224T000000
DTSTAMP:20260421T201442
CREATED:20240124T183254Z
LAST-MODIFIED:20240124T183254Z
UID:2008-1708723800-1708732800@roundaboutclubsandy.co.uk
SUMMARY:Gayle Fraser
DESCRIPTION:Gayle Fraser makes a welcome return to us at the Roundy this February. A brilliant solo singer covering a huge range of all your favourites\, it’s the perfect pay day weekend treat. \nFree to members. Guest sign in £3
URL:https://roundaboutclubsandy.co.uk/entertainment/gayle-fraser/
LOCATION:The roundabout club\, Bedford Road\, Sandy\, SG191El\, United Kingdom
END:VEVENT
BEGIN:VEVENT
DTSTART;TZID=Europe/London:20240224T213000
DTEND;TZID=Europe/London:20240225T000000
DTSTAMP:20260421T201442
CREATED:20240124T183428Z
LAST-MODIFIED:20240124T183428Z
UID:2010-1708810200-1708819200@roundaboutclubsandy.co.uk
SUMMARY:Max Headroom
DESCRIPTION:All new line up for the Indie rock legends\, same great evening of entertainment! Come and rock with the lads this February you definitely don’t want to miss this one. \nFree to members. Guest sign in £3
URL:https://roundaboutclubsandy.co.uk/entertainment/max-headroom-5/
LOCATION:The roundabout club\, Bedford Road\, Sandy\, SG191El\, United Kingdom
END:VEVENT
END:VCALENDAR