BEGIN:VCALENDAR
VERSION:2.0
PRODID:-//The Roundabout club - ECPv6.15.20//NONSGML v1.0//EN
CALSCALE:GREGORIAN
METHOD:PUBLISH
X-ORIGINAL-URL:https://roundaboutclubsandy.co.uk
X-WR-CALDESC:Events for The Roundabout club
REFRESH-INTERVAL;VALUE=DURATION:PT1H
X-Robots-Tag:noindex
X-PUBLISHED-TTL:PT1H
BEGIN:VTIMEZONE
TZID:Europe/London
BEGIN:DAYLIGHT
TZOFFSETFROM:+0000
TZOFFSETTO:+0100
TZNAME:BST
DTSTART:20230326T010000
END:DAYLIGHT
BEGIN:STANDARD
TZOFFSETFROM:+0100
TZOFFSETTO:+0000
TZNAME:GMT
DTSTART:20231029T010000
END:STANDARD
BEGIN:DAYLIGHT
TZOFFSETFROM:+0000
TZOFFSETTO:+0100
TZNAME:BST
DTSTART:20240331T010000
END:DAYLIGHT
BEGIN:STANDARD
TZOFFSETFROM:+0100
TZOFFSETTO:+0000
TZNAME:GMT
DTSTART:20241027T010000
END:STANDARD
BEGIN:DAYLIGHT
TZOFFSETFROM:+0000
TZOFFSETTO:+0100
TZNAME:BST
DTSTART:20250330T010000
END:DAYLIGHT
BEGIN:STANDARD
TZOFFSETFROM:+0100
TZOFFSETTO:+0000
TZNAME:GMT
DTSTART:20251026T010000
END:STANDARD
END:VTIMEZONE
BEGIN:VEVENT
DTSTART;TZID=Europe/London:20240405T213000
DTEND;TZID=Europe/London:20240406T000000
DTSTAMP:20260421T173254
CREATED:20240124T184846Z
LAST-MODIFIED:20240330T132711Z
UID:2022-1712352600-1712361600@roundaboutclubsandy.co.uk
SUMMARY:Blacksmith
DESCRIPTION:The club are thrilled to welcome back the supergroup Blacksmith for 2024! F.T The legendary Podge as lead. He is known for being the best AC/DC tribute singer in the Uk. Playing everything classic rock it’s an evening not to be missed. \nFree to members. Guest sign in £4
URL:https://roundaboutclubsandy.co.uk/entertainment/blacksmith-5/
LOCATION:The roundabout club\, Bedford Road\, Sandy\, SG191El\, United Kingdom
END:VEVENT
BEGIN:VEVENT
DTSTART;TZID=Europe/London:20240406T213000
DTEND;TZID=Europe/London:20240407T000000
DTSTAMP:20260421T173254
CREATED:20240124T185114Z
LAST-MODIFIED:20240330T132734Z
UID:2024-1712439000-1712448000@roundaboutclubsandy.co.uk
SUMMARY:Popscene
DESCRIPTION:BRITPOP & INDIE covers band\, playing all the great British sounds… \nFrom Arctic Monkeys\, Blur\, Kaiser Chiefs and Cast\, to Stereophonics\, Stone Roses and Paul Weller\, by way of Ocean Colour Scene\, Oasis\, Pulp and Supergrass… And everything else in between! Always a great night with these guys\, grab your Fred Perry’s and hit the dance floor. \nFree to members. Guest sign in £4
URL:https://roundaboutclubsandy.co.uk/entertainment/popscene-4/
LOCATION:The roundabout club\, Bedford Road\, Sandy\, SG191El\, United Kingdom
END:VEVENT
BEGIN:VEVENT
DTSTART;TZID=Europe/London:20240412T210000
DTEND;TZID=Europe/London:20240412T235500
DTSTAMP:20260421T173254
CREATED:20240329T000346Z
LAST-MODIFIED:20240329T000346Z
UID:2027-1712955600-1712966100@roundaboutclubsandy.co.uk
SUMMARY:Club Karaoke
DESCRIPTION:Club karaoke for April! Headlined by resident house Dj Jjngles. Always a fantastic evening of entertainment
URL:https://roundaboutclubsandy.co.uk/entertainment/club-karaoke-4/
LOCATION:The roundabout club\, Bedford Road\, Sandy\, SG191El\, United Kingdom
END:VEVENT
BEGIN:VEVENT
DTSTART;TZID=Europe/London:20240413T213000
DTEND;TZID=Europe/London:20240413T235500
DTSTAMP:20260421T173254
CREATED:20240329T000653Z
LAST-MODIFIED:20240329T000653Z
UID:2029-1713043800-1713052500@roundaboutclubsandy.co.uk
SUMMARY:‘Waterloo’ - ABBA Tribute
DESCRIPTION:We are delighted to welcome back this amazing tribute duo to Abba! Outstanding lead vocals from Danni & Amy in a brilliantly put together set this really is one night you don’t want to miss. \nLive on the stage 9:30pm.\nFree to members. £4 guest admission
URL:https://roundaboutclubsandy.co.uk/entertainment/waterloo-abba-tribute/
LOCATION:The roundabout club\, Bedford Road\, Sandy\, SG191El\, United Kingdom
END:VEVENT
BEGIN:VEVENT
DTSTART;TZID=Europe/London:20240420T213000
DTEND;TZID=Europe/London:20240420T235500
DTSTAMP:20260421T173254
CREATED:20240329T001006Z
LAST-MODIFIED:20240329T001035Z
UID:2031-1713648600-1713657300@roundaboutclubsandy.co.uk
SUMMARY:Back To The 50’s *New for 2024*
DESCRIPTION:The club are delighted to welcome B.T.T.50s for 2024! \nA Hertford based High Octane Tribute to the 1950s with a nod towards film Back To The Future. \nFormed in 2018 their Mission to Bring 1950’s ROCK&ROLL to the modern day with a 3 piece power trio that will get you TWISTING & Surfing THE NIGHT AWAY! Come down and give the lads the roundy welcome should be a cracker! \nlive on the stage 9:30pm\nFree to members. £4 guest admission \n 
URL:https://roundaboutclubsandy.co.uk/entertainment/back-to-the-50s-new-for-2024/
LOCATION:The roundabout club\, Bedford Road\, Sandy\, SG191El\, United Kingdom
END:VEVENT
BEGIN:VEVENT
DTSTART;TZID=Europe/London:20240426T213000
DTEND;TZID=Europe/London:20240426T235500
DTSTAMP:20260421T173254
CREATED:20240329T001439Z
LAST-MODIFIED:20240329T001439Z
UID:2034-1714167000-1714175700@roundaboutclubsandy.co.uk
SUMMARY:Wholly Soul Ft Uche Eke & The SoulMan
DESCRIPTION:The Soul Man and Uche Eke are teaming up as the duo\, Wholly Soul. Bringing an evening packed full of all the greatest soul songs this is one not to be missed! \nThis event will take place in our victory suite and is expected to be a sell out! Spaces are strictly on a first come first serve basis\, all information can be found on the clubs social pages. \nLive on the stage 9:30pm\nFree to members. £5 guest admission
URL:https://roundaboutclubsandy.co.uk/entertainment/wholly-soul-ft-uche-eke-the-soulman/
LOCATION:Victory Suite\, THE ROUNDABOUT CLUB BEDFORD ROAD\, SANDY\, Bedfordshire\, SG19 1EL\, United Kingdom
END:VEVENT
BEGIN:VEVENT
DTSTART;TZID=Europe/London:20240427T213000
DTEND;TZID=Europe/London:20240427T235500
DTSTAMP:20260421T173254
CREATED:20240329T001747Z
LAST-MODIFIED:20240329T001747Z
UID:2036-1714253400-1714262100@roundaboutclubsandy.co.uk
SUMMARY:The Desert Penguins
DESCRIPTION:We are delighted to welcome back The Desert Penguins after smashing their Roundy debut last year. An established pop gone rock band! Yes you read that right! A modern rock covers band playing all your favourite pop & rock songs. A high energy\, high calibre covers band bringing you huge sounding music. Come down make some noise and enjoy local and live music. \nLive on the stage 9:30pm\nFree to members. £4 guest admission \n 
URL:https://roundaboutclubsandy.co.uk/entertainment/the-desert-penguins-2/
LOCATION:The roundabout club\, Bedford Road\, Sandy\, SG191El\, United Kingdom
END:VEVENT
END:VCALENDAR